BEGIN:VCALENDAR
VERSION:2.0
PRODID:icalendar-ruby
CALSCALE:GREGORIAN
METHOD:PUBLISH
BEGIN:VEVENT
DTSTAMP:20260423T085539Z
UID:674d186f-9d91-4145-88fc-295c8381ead4
DTSTART:20240315T200000
DTEND:20240317T020000
DESCRIPTION:<p>012 Block Party returns to give the ultimate nightlife exper
 ience. </p><p><br></p><p>Under one roof we have invited WHYLY\, We Are Ani
 mals\, QRS & Fragments for a 2-day electronic music experience. </p><p><br
 ></p><p>Join us </p><p><br></p><p>Friday Night 15th March</p><p>WHYLY </p>
 <ul><li>Terminus</li><li>Morbid Void (CPT) </li><li>Romario Afonso </li><l
 i>JVE </li></ul><p><br></p><p>Fragments </p><ul><li>Format</li><li>Instate
 </li><li>Radikill </li><li>Ruckus </li><li>Stoney Maroney </li></ul><p><br
 ></p><p>Saturday Night 16th March</p><p>QRS</p><ul><li>DJ Q</li><li>Siann<
 /li><li>Ryan North</li><li>Vian </li></ul><p><br></p><p>We Are Animals </p
 ><ul><li>Avi Subban </li><li>Ginelio </li><li>Kid Robot </li><li>DSCO CAM<
 /li><li>Yes Joe</li></ul>
LOCATION:103 Club Avenue\, Waterkloof\, Pretoria 
SUMMARY:012 Block Party 2024
URL;VALUE=URI:https://www.howler.co.za/012BlockParty2024
END:VEVENT
END:VCALENDAR
