BEGIN:VCALENDAR
VERSION:2.0
PRODID:icalendar-ruby
CALSCALE:GREGORIAN
METHOD:PUBLISH
BEGIN:VEVENT
DTSTAMP:20260420T160524Z
UID:22d8cb2c-1751-419c-92dc-6b9a3609f959
DTSTART:20190329T180000
DTEND:20190331T000000
DESCRIPTION:<strong>Why Cashless?</strong><br>\nIt’s Safer - Pre Load onl
 ine. No wallet needed.<br>\nIt’s Faster - Less time waiting in lines. Mo
 re time for Jazz.<br>\nIt’s Easier - Who needs to calculate change or ca
 rry coins? It's not 1995.<br>\nIt’s More Secure - There's top-level encr
 yption on all NFC cards and bands<br><br>\n\n<strong>Is this the first tim
 e Jazz Festival is using a cashless service?</strong><br>\nNo\, we used Ho
 wler last year\, it was a flawless execution and were excited to have them
  back to help make your experience better.<br><br>\n<strong>How do I Top U
 p?</strong><br>\nVisit: <a href="https://www.howler.co.za/events/20th-cape
 -town-international-jazz-festival-2019-pre-event-online-topups-6037"target
 ="_blank">Here</a><br>\nPurchase the pre determined voucher credit. You wi
 ll receive a confirmation email and tickets and you’re all set! Collect 
 your pre-loaded wristband when you arrive at the 'Online Topup Redemption'
  station near the entrance of the event.<br><br><strong>Where do I collect
  my wristband?</strong><br>\nAll ​jazz fans will get their wristband via
  the​ 'Online Topup Redemption' station​ or the customer service areas
 .<br><br>\n<strong>Can I bring Cash/Card to the event?</strong><br>\nIf it
 ’s to topup your wristband\, bring it on! ​Cape Town International Jaz
 z Festival will be 100% cashless\, your wristband will serve as your payme
 nt method\, when buying food\, drinks or merchandise. <br>\nWe strongly s
 uggest to top up online.<br><br>\n<strong>Can I use my phone to pay?</stro
 ng><br>\nConsidering you still have battery and there are no network issue
 s when there are thousands of people. There is no need for your phone.<br>
 \nOur cashless system run 100% offline so in downtime we can still transac
 t. You can bring your Cashless voucher on your phone to redeem your wristb
 and​.​<br>\nOur website is mobile friendly. TopUp online at the ease o
 f your fingertips.<br><br>\n<strong>What happens to the money left on my b
 and?</strong><br>\nAll funds left on wristbands are kept for you to Cashou
 t for a period of 4 weeks.\nYou can Cashout from as soon as the Wednesday 
 after the event. Cashouts are done online via howler.co.za​.​\nEnable 
 ‘Auto-Cashout’ on your Howler profile to have your leftover money auto
 matically credited back into your account! Or\, visit our website and Cash
 out yourself\, it’s that easy! <br><br>\n<strong>What happens if I forg
 et to Cashout?</strong><br>\nSimply contact our support team on team@howle
 r.co.za. One of our support agents will be​ ​more than happy to help y
 ou get your money back! It is yours after all.<br><br>\n<strong>What happe
 ns if I lose my wristband?</strong><br>\nIt will be unlikely as once its o
 n the only way to get it off​\,​ is to cut it.​ ​If its bothering 
 you or too tight. No problem. Find the nearest Topup or Customer Support s
 tation. Your wristband will be replaced any funds will be transferred to y
 our new one.<br><br><strong>Is there an extra fee?</strong>\nThere is a sm
 all convenience​ once off fee of R​10​ per wristband and R5 to cash
 out online.​ ​Better ​than​ waiting in Q’s and not being able to
  transact when the network goes down.<br><br>\n<strong>Why Howler?</strong
 ><br>\nHowler™ is a global leader event technology platform. They have m
 anaged South Africa’s biggest events such as Ultra Music Festival\, Rage
  Festival\, Rock the Lawns\, Joy of Jazz and hundreds more. You are in goo
 d hands.\n
LOCATION:Convention Square\, 1 Lower Long Street\, Cape Town\, 8001
SUMMARY:20th Cape Town International Jazz Festival 2019 - Pre-event Online 
 Topups.
URL;VALUE=URI:https://www.howler.co.za/jazzfest19
END:VEVENT
END:VCALENDAR
