BEGIN:VCALENDAR
VERSION:2.0
PRODID:icalendar-ruby
CALSCALE:GREGORIAN
METHOD:PUBLISH
BEGIN:VEVENT
DTSTAMP:20260419T183629Z
UID:889401e8-8285-470a-82c8-f1d7dfaaed54
DTSTART:20260330T100000
DTEND:20260330T120000
DESCRIPTION:<p><strong>3D Character Paint Workshop on 30 March 🎨✨</str
 ong></p><p><br></p><p>Get ready for a colourful\, creative adventure at ou
 r 3D printed Character Paint Workshop – where imagination comes to life!
  🖌️🌈 Kids will paint their very own favourite characters like Blue
 y\, Paw Patrol and Labubu\, bringing them to life with bright colours and 
 their own unique style. This hands-on activity is the perfect mix of fun a
 nd creativity! 🎉 Join us for a paint-filled morning and let little arti
 sts shine! ✨ Reserve your spot today!</p><p><br></p><p>🎟️ <strong>T
 ICKET INFO</strong></p><p>R150 per person for the Workshop & Playtime Comb
 o</p><p><br></p><p>Tickets are available at:</p><p><a href="http://www.how
 ler.co.za/kidsfactory" target="_blank" style="color: rgb(118\, 79\, 219)\;
 ">www.howler.co.za/kidsfactory</a></p><p><br></p><p><strong>The combo incl
 udes:</strong></p><p>🎨 3D Character Paint Workshop </p><p>🛝 90 minut
 es of play time at Kids Factory</p><p><em>(Excludes compulsory safety grip
  socks - R35 per pair or bring your own KF pair)</em></p><p><br></p><p>Spo
 ts are limited. Book soon!</p><p>📍 <strong>Where:</strong> Kids Factory
 \, 17 Bottelary Road\, Brackenfell\, Cape Town</p><p>📅 <strong>When:</s
 trong> Monday\, 30 March 2026</p><p>⏰ <strong>Time:</strong> 10:00 – 1
 2:00</p><p>💰 <strong>Cost:</strong> R150 per child (excl Howler fee)</p
 ><p><br></p><p>Recommended age: 2 to 10</p><p>We have a licensed restauran
 t on site</p><p>All-inclusive workshops for boys & girls</p><p>Ticket excl
 udes compulsory Kids Factory grip socks</p><p><br></p><p>📞 Call 079 219
  6577</p><p>📲 WhatsApp 084 990 4482</p><p><br></p>
LOCATION:17 Bottelary Road\, Brackenfell
SUMMARY:3D Character Paint Workshop
URL;VALUE=URI:https://www.howler.co.za/KF3DPrint30
END:VEVENT
END:VCALENDAR
