BEGIN:VCALENDAR
VERSION:2.0
PRODID:icalendar-ruby
CALSCALE:GREGORIAN
METHOD:PUBLISH
BEGIN:VEVENT
DTSTAMP:20260420T143305Z
UID:d78b7633-2a02-4b9a-a55f-4046e33bf8dd
DTSTART:20250627T200000
DTEND:20250628T020000
DESCRIPTION:<p>7 Years of WHYLY coming up! </p><p><br></p><p>Join us in ce
 lebrating another year of dancing around the sun as we team up for a first
  time collaboration with our friends from MUUD Movement 🖤🤍</p><p><br
 ></p><p>It’s WHYLY residents B2B MUUD residents for 6 hours of badass da
 nce music in the city. </p><p><br></p><p>We cannot wait to celebrate with
  you all\, our community has never been as strong as it is today all thank
 s to your support. </p><p><br></p><p>We love you! Our WHYLY faithful.</p>
 <p><br></p>
LOCATION:216 Sisulu St\, Pretoria Central\,\, Pretoria\, Gauteng\, 0002
SUMMARY:7 Years Of WHYLY
URL;VALUE=URI:https://www.howler.co.za/7YearsOfWHYLY
END:VEVENT
END:VCALENDAR
