BEGIN:VCALENDAR
VERSION:2.0
PRODID:icalendar-ruby
CALSCALE:GREGORIAN
METHOD:PUBLISH
BEGIN:VEVENT
DTSTAMP:20260420T145456Z
UID:aa605f1d-c9ba-4604-baa0-fc674b887e9d
DTSTART:20251205T220000
DTEND:20251206T040000
DESCRIPTION:<p>Welcome to the official opening of 8.</p><p><br></p><p>A new
  home for nightlife\, curated sound and elevated experiences.</p><p><br></
 p><p>For our launch\, we’re bringing you an unforgettable night headline
 d by Da Capo\, one of South Africa’s most respected and internationally 
 celebrated electronic music producers and DJs. Expect a night of deep\, so
 ulful\, afro-electronic rhythms\, premium service\, and an atmosphere buil
 t for people who appreciate quality music and refined nightlife energy.</p
 ><p><br></p><p>This is more than an opening\,</p><p>It’s the beginning o
 f a new era.</p><p>Limited tickets available.</p><p><br></p>
LOCATION:9 walters street\, Rosebank Quarter 
SUMMARY:8. where infinity begins
URL;VALUE=URI:https://www.howler.co.za/8_thenightclub_05December2025
END:VEVENT
END:VCALENDAR
