BEGIN:VCALENDAR
VERSION:2.0
PRODID:icalendar-ruby
CALSCALE:GREGORIAN
METHOD:PUBLISH
BEGIN:VEVENT
DTSTAMP:20260425T165727Z
UID:13ad52e8-f273-4d09-8d85-c13632fdc45f
DTSTART:20190525T100000
DTEND:20190525T130000
DESCRIPTION:<p>  -Meet the Artists </p><p> -How to Produce Trap music</p><p
 > -Mixing and Mastering Trap music</p><p> -Writing to Hip hop/ Trap beats 
 </p><p> -How to stand out from other Trap Producers</p><p> -Collabs *Very 
 important </p><p> -How to engage with your Fans</p>
LOCATION:61 old pretoria rd\, midrand 
SUMMARY:808 Hip Hop workshop 
URL;VALUE=URI:https://www.howler.co.za/808workshop
END:VEVENT
END:VCALENDAR
