BEGIN:VCALENDAR
VERSION:2.0
PRODID:icalendar-ruby
CALSCALE:GREGORIAN
METHOD:PUBLISH
BEGIN:VEVENT
DTSTAMP:20260425T143555Z
UID:beeb16bc-a4b6-4d64-92fa-800891f56243
DTSTART:20260328T170000
DTEND:20260329T020000
DESCRIPTION:<p><strong>A DESI AFFAIR – The Durban Chapter</strong></p><p>
 An Elevated Dining & Nightlife Experience</p><p>Durban\, it’s time!!!</p
 ><p><strong>Fusion Life</strong> brings you <strong>A Desi Affair – The 
 Durban Chapter</strong>\, an unforgettable night where premium dining meet
 s high-energy nightlife at Culture Restaurant & Lounge in Umhlanga. This i
 s not your typical night out. This is style. This is flavour. This is cura
 ted music\, cocktails and a dance floor that does not slow down. From eleg
 ant dining at 5PM to full dance energy till 2AM\, A Desi Affair delivers a
  seamless experience for those who appreciate quality\, atmosphere and unf
 orgettable vibes.</p><p>✨<strong>VIP Dining Experience from 5PM</strong>
 </p><p>Enjoy a 3-course set menu with reserved seating in an intimate\, so
 phisticated setting. Perfect for couples\, friends and birthday celebratio
 ns.</p><p>✨<strong>General Access from 7PM</strong></p><p>Cocktails flow
 ing. Dance floor open. Energy rising.</p><p><strong>LINE UP:</strong></p><
 p>DJ Desiblue | Jovan The Quick Fixx | DJ Suraj S | Nichal Sarawan | DJ UD
  | Ash the DJ</p><p><strong>EVENT DETAILS:</strong></p><p>📍<strong>Venu
 e:</strong> Culture Restaurant & Lounge</p><p> 🗓 <strong>Date:</strong
 > Saturday 28 March</p><p>⏰<strong>Time:</strong> VIP Dining from 5PM | 
 General Access from 7PM</p><p>🔞<strong>Strictly 18+</strong> | Valid ID
  Required</p><p>Expect an electrifying mix of Bollywood anthems\, Chutney 
 favourites and feel-good party hits that will keep the dance floor moving 
 all night long.</p><p>Dress to impress<span>⭐</span>Arrive early<span>
 ⭐</span>Stay late.</p><p><strong>Durban\, this is your chapter.</strong>
 </p>
LOCATION:4 Park Lane\, Umhlanga Rocks
SUMMARY:A Desi Affair (The Durban Chapter)
URL;VALUE=URI:https://www.howler.co.za/desiaffairdurban
END:VEVENT
END:VCALENDAR
