BEGIN:VCALENDAR
VERSION:2.0
PRODID:icalendar-ruby
CALSCALE:GREGORIAN
METHOD:PUBLISH
BEGIN:VEVENT
DTSTAMP:20260424T062152Z
UID:e341c728-f220-44c5-83a4-6da9565b2ec1
DTSTART:20250704T200000
DTEND:20250705T020000
DESCRIPTION:<p><strong>FRIDAY 4 JULY — 30+ by Buddhafunk presents: A Nigh
 t with VERD at Paradiso 🎶</strong></p><p><span>Get ready for an unforge
 ttable evening of sensual grooves and timeless R&B at the alluring </span>
 <strong>Paradiso Montecasino</strong><span>. </span></p><p><br></p><p>Step
  into a world of class\, soul\, and sophistication as <strong>R&B sensatio
 n VERD</strong> takes the stage live\, serenading you with velvet vocals a
 nd smooth energy.</p><p><br></p><p><span>Joining him on the decks are crow
 d-favourites </span><strong>Jason 2Ray</strong><span>\, </span><strong>Nea
 l Rain</strong><span>\, and friends — delivering a soundtrack of golden-
 era Old School and  R&B that will keep you vibing all night long.</span></
 p><p><br></p><p><span>Set in the heart of Montecasino\, Paradiso offers th
 e perfect backdrop — sexy\, luxurious\, and made for those who appreciat
 e the finer things in life.</span></p><p><br></p><p><strong>This is 30+ by
  Buddhafunk</strong><span>: mature\, stylish\, and unforgettable.</span></
 p><p><span>🖤 Dress code: Smart | Sexy</span></p><p><span> 🕘 Doors op
 en 8pm</span></p><p><span> 📍 Paradiso\, Montecasino</span></p><p><br></
 p><p><br></p>
LOCATION:Montecasino Fourways
SUMMARY:A Night out with VERD | Paradiso | Monte Casino
URL;VALUE=URI:https://www.howler.co.za/verd1
END:VEVENT
END:VCALENDAR
