BEGIN:VCALENDAR
VERSION:2.0
PRODID:icalendar-ruby
CALSCALE:GREGORIAN
METHOD:PUBLISH
BEGIN:VEVENT
DTSTAMP:20260425T170353Z
UID:dd48457f-0cbd-4530-9bda-e78859d743f8
DTSTART:20251218T200000
DTEND:20251219T040000
DESCRIPTION:<p><span style="color: rgb(0\, 0\, 0)\;">Get ready Cape Town! T
 he Afro House event you've been waiting for is finally here! Afrobiza is m
 aking its highly anticipated debut in the Mother City\, and we're bringing
  nothing but pure heat. Prepare for an unforgettable experience as we infu
 se Cape Town with the electric vibes of Ibiza\, creating a night you won't
  want to miss!</span></p><p><br></p><p><span style="color: rgb(0\, 0\, 0)\
 ;">Venue: Halo Night Club</span></p><p><span style="color: rgb(0\, 0\, 0)\
 ;">Address:  71 Loop St\, Cape Town City Centre\, Cape Town\, 8000</span>
 </p><p><span style="color: rgb(0\, 0\, 0)\;">Date:Fri 18 December 2025</sp
 an></p><p><span style="color: rgb(0\, 0\, 0)\;">Time: Doors open at 20.00<
 /span></p><p><span style="color: rgb(0\, 0\, 0)\;">No Under 21s</span></p>
 <p><br></p><p><span style="color: rgb(0\, 0\, 0)\;">Table bookings availab
 le but are limited contact 0847832817 for bookings</span></p><p><br></p><p
 ><br></p><p><br></p>
LOCATION:71 Loop Street\, Cape Town\, 8000
SUMMARY:Afrobiza Cape Town (18 December 2025) 
URL;VALUE=URI:https://www.howler.co.za/afrobiza_capetown
END:VEVENT
END:VCALENDAR
