BEGIN:VCALENDAR
VERSION:2.0
PRODID:icalendar-ruby
CALSCALE:GREGORIAN
METHOD:PUBLISH
BEGIN:VEVENT
DTSTAMP:20260421T164649Z
UID:3801e7c5-964e-40c2-8b53-153da6b35046
DTSTART:20250404T170000
DTEND:20250405T020000
DESCRIPTION:<p>A Celebration of Rhythm & Soul </p><p><br></p><p><span>Get r
 eady for </span><strong>AFROCHELLA</strong><span>\, where </span><strong>b
 eats\, energy\, and culture collide</strong><span>! 🔥 This is not just 
 an event—it’s a movement. A night of electrifying music\, immersive vi
 bes\, and unforgettable moments\, all set in the heart of </span><strong>J
 ohannesburg</strong><span>.</span></p><p><br></p><p><span>Expect a </span>
 <strong>high-energy lineup of DJs</strong><span> delivering the best in </
 span><strong>Afro-inspired sounds</strong><span>\, from hypnotic Deep Hous
 e to pulsating AfroTech beats. Feel the rhythm\, embrace the energy\, and 
 lose yourself in a soundscape designed to move your soul.</span></p>
LOCATION:19 Wessel Road\, Edenburg\, Rivonia\, Johannesburg\, 2021
SUMMARY:Afrochella
URL;VALUE=URI:https://www.howler.co.za/afrochella
END:VEVENT
END:VCALENDAR
