BEGIN:VCALENDAR
VERSION:2.0
PRODID:icalendar-ruby
CALSCALE:GREGORIAN
METHOD:PUBLISH
BEGIN:VEVENT
DTSTAMP:20260424T202211Z
UID:38d457f8-69b6-4ecf-b3ca-3994d30d619f
DTSTART:20221231T160000
DTEND:20230101T040000
DESCRIPTION:<p><span style="color: rgb(0\, 0\, 0)\; background-color: trans
 parent\;">Alcazar is THE Cape Town New Year’s Eve party. An upmarket ext
 ravaganza of eclectic music\, mind blowing stage architecture and flamboya
 nt performance art\, brought to you by a collaboration of the city’s top
  3 purveyors of experiential events\, Bazique Festival\, Wolfkop Weekender
  and Sexy Groovy Love.</span></p><p><span style="color: rgb(0\, 0\, 0)\; b
 ackground-color: transparent\;">Three incredible\, art immersive stages wi
 ll whisk you away into a kaleidoscope of celebration and good times runnin
 g until 4am… right in the heart of the city of Cape Town! </span></p><p
 ><br></p><h3><span style="color: rgb(67\, 67\, 67)\; background-color: tra
 nsparent\;">2022 Theme: Azteca Dream</span></h3><p><span style="color: rgb
 (0\, 0\, 0)\; background-color: transparent\;">Each year the 3 story high 
 mainstage structure at Alcazar is inspired by an iconic building from arou
 nd the globe. This year we delve into the ancient civilisation of the Azte
 cs and the Mayan palace complex of Palenque\, deep in the jungles of moder
 n-day Mexico.</span></p><p><span style="color: rgb(0\, 0\, 0)\; background
 -color: transparent\;">At Alcazar\, fancy dress is not essential … but w
 e warmly encourage you to explore the incredible artistry of the Aztecs…
  or the natural beauty of the Jungle and its many creatures!</span></p><p>
 <br></p><h3><span style="color: rgb(67\, 67\, 67)\; background-color: tran
 sparent\;">Our Artists</span></h3><p><span style="color: rgb(0\, 0\, 0)\; 
 background-color: transparent\;">Super Flu</span></p><p><span style="color
 : rgb(0\, 0\, 0)\; background-color: transparent\;">Dirty Doering</span></
 p><p><span style="color: rgb(0\, 0\, 0)\; background-color: transparent\;"
 >(A-Z)</span></p><p><span style="color: rgb(0\, 0\, 0)\; background-color:
  transparent\;">Abby Nurock</span></p><p><span style="color: rgb(0\, 0\, 0
 )\; background-color: transparent\;">Bantwanas</span></p><p><span style="c
 olor: rgb(0\, 0\, 0)\; background-color: transparent\;">Blaqkongo</span></
 p><p><span style="color: rgb(0\, 0\, 0)\; background-color: transparent\;"
 >Bruno Morphet</span></p><p><span style="color: rgb(0\, 0\, 0)\; backgroun
 d-color: transparent\;">Dean Fuel</span></p><p><span style="color: rgb(0\,
  0\, 0)\; background-color: transparent\;">Dj Buhle</span></p><p><span sty
 le="color: rgb(0\, 0\, 0)\; background-color: transparent\;">Jews for Tech
 no Paradise Citizens</span></p><p><span style="color: rgb(0\, 0\, 0)\; bac
 kground-color: transparent\;">Pierre Estienne</span></p><p><span style="co
 lor: rgb(0\, 0\, 0)\; background-color: transparent\;">Richard Marshall</s
 pan></p><p><span style="color: rgb(0\, 0\, 0)\; background-color: transpar
 ent\;">Roz</span></p><p><br></p><h3><span style="color: rgb(67\, 67\, 67)\
 ; background-color: transparent\;">Tickets:</span></h3><p><span style="col
 or: rgb(0\, 0\, 0)\; background-color: transparent\;">The standard ticket 
 offers full access to all the stages and attractions of Alcazar. </span><
 /p><p><span style="color: rgb(0\, 0\, 0)\; background-color: transparent\;
 ">However\, if you want a bit more than “the full package”\, there are
  also some banging VIP ticket options as well as private tables available!
 </span></p><p><a href="http://www.alcazarnye.co.za/" target="_blank" style
 ="color: rgb(17\, 85\, 204)\; background-color: transparent\;">http://www.
 alcazarnye.co.za/</a></p><p><br></p><h3><span style="color: rgb(67\, 67\, 
 67)\; background-color: transparent\;">Our Venue</span></h3><p><span style
 ="color: rgb(0\, 0\, 0)\; background-color: transparent\;">Our elaborate s
 etup will be at 115 Hatfield St\, Gardens\, at Cape Town High School.</spa
 n></p><p><span style="color: rgb(0\, 0\, 0)\; background-color: transparen
 t\;">Come and dance all day and night at the foot of Table Mountain in a t
 otally secure and wind protected venue!  </span></p><p><br></p><h3><span
  style="color: rgb(67\, 67\, 67)\; background-color: transparent\;">Parkin
 g:</span></h3><p><span style="color: rgb(0\, 0\, 0)\; background-color: tr
 ansparent\;">Parking at the venue is very limited so please make use of Ub
 er\, Bolt or a shuttle service to lift you to and from the event safely.</
 span></p><p><br></p><h3><span style="color: rgb(67\, 67\, 67)\; background
 -color: transparent\;">The Sound of Alcazar </span></h3><p><span style="c
 olor: rgb(0\, 0\, 0)\; background-color: transparent\;">With three differe
 nt music stages\, Alcazar has a wide scope of great party music. Whether b
 e the international headliners on the main stage\, the intelligent tech ho
 use of the Wolfkop Den or the funky\, Nu Disco\, hip hop eclectic party vi
 bes of the La Fee Verte ballroom\, we have got you covered to have a prope
 r twirl!</span></p><p><br></p><h3><span style="color: rgb(67\, 67\, 67)\; 
 background-color: transparent\;">Media & Press Enquiries</span></h3><p><sp
 an style="color: rgb(0\, 0\, 0)\; background-color: transparent\;">Please 
 direct all queries to Ashley: ashley@luckyfishevents.co.za</span></p><p><b
 r></p><h3><span style="color: rgb(67\, 67\, 67)\; background-color: transp
 arent\;">Refund Policy:</span></h3><p><span style="color: rgb(0\, 0\, 0)\;
  background-color: transparent\;">Standard Howler ticket refund policy.</s
 pan></p><p><br></p><h3><span style="color: rgb(67\, 67\, 67)\; background-
 color: transparent\;">Disclaimer</span></h3><p><span style="color: rgb(0\,
  0\, 0)\; background-color: transparent\;">Attendees assume all risk and d
 anger incidental to the attendance of this event (in any capacity\, includ
 ing making use of transport provided) and release the owners of Lucky Fish
  Events and their employees\, suppliers\, sponsors or representatives from
  any and all liabilities\, damages\, costs and expenses arising from any c
 ause whatsoever. This includes but is not limited to any damage\, theft or
  loss of property or earnings\, as well as any death or injury or damage t
 o any person while utilizing transport provided and/or within the premises
  of the festival before\, during or after the event. Attendees are not per
 mitted to bring their own drinks into the venue. No U21s. </span></p><p><s
 pan style="color: rgb(0\, 0\, 0)\; background-color: transparent\;">﻿The
  right of admission is reserved. Alcazar NYE is brought to you by Lucky Fi
 sh Events.</span></p>
LOCATION:115 Hatfield St\, Gardens\, Cape Town\, 8001
SUMMARY:Alcazar NYE 2022
URL;VALUE=URI:https://www.howler.co.za/alcazarnye2022
END:VEVENT
END:VCALENDAR
