BEGIN:VCALENDAR
VERSION:2.0
PRODID:icalendar-ruby
CALSCALE:GREGORIAN
METHOD:PUBLISH
BEGIN:VEVENT
DTSTAMP:20260419T200856Z
UID:cade562a-1ca8-4bc0-9413-c42cf1b7e3e4
DTSTART:20190628T190000
DTEND:20190630T040000
DESCRIPTION:<p><strong>Alice in wonderland Burlesque weekend.</strong></p><
 p><br></p><p>Expect the unexpected\, surprises and tricks around every cor
 ner with a hint of Alice and the undiscovered wonderland we can't wait to 
 show you.</p><p><br></p><p>Dress sexy childlike and try and find the white
  rabbit we all seem to keep looking for.</p><p><br></p><p>As lost as Alice
  and as mad as the Hatter.</p><p>It’s OK to fall down the rabbit hole no
 w and again.</p><p>We’ve decided to make a weekend of if.</p><p><br></p>
 <p>Alice in wonderland Burlesque weekend.</p><ul><li>NOT ONLY FOR THE GENT
 LEMAN</li></ul><p><br></p><p><br></p><p><br></p><p><a href="https://www.fa
 cebook.com/maverickscapetown/" target="_blank">Mavericks Cape Town</a></p>
 <p><a href="https://www.facebook.com/hashtag/savethedate" target="_blank">
 #savethedate</a> <a href="https://www.facebook.com/hashtag/june" target="_
 blank">#june</a> <a href="https://www.facebook.com/hashtag/weallmadhere" t
 arget="_blank">#weallmadhere</a> <a href="https://www.facebook.com/hashtag
 /aliceinwonderland" target="_blank">#aliceinwonderland</a> <a href="https:
 //www.facebook.com/hashtag/burlesque" target="_blank">#burlesque</a> <a hr
 ef="https://www.facebook.com/hashtag/findtherabbit" target="_blank">#findt
 herabbit</a> <a href="https://www.facebook.com/hashtag/downtherabbithole" 
 target="_blank">#downtherabbithole</a> <a href="https://www.facebook.com/h
 ashtag/ohmrrabbit" target="_blank">#ohmrrabbit</a> <a href="https://www.fa
 cebook.com/hashtag/capetown" target="_blank">#capetown</a> <a href="https:
 //www.facebook.com/hashtag/exotic" target="_blank">#exotic</a> <a href="ht
 tps://www.facebook.com/hashtag/dancers" target="_blank">#dancers</a> <a hr
 ef="https://www.facebook.com/hashtag/storytellers" target="_blank">#storyt
 ellers</a> <a href="https://www.facebook.com/hashtag/eatme" target="_blank
 ">#eatme</a> <a href="https://www.facebook.com/hashtag/comehaveteawithme" 
 target="_blank">#comehaveteawithme</a></p><p><br></p>
LOCATION:68 Barrack Street\, Cape Town\, Western Cape
SUMMARY:Alice In Wonderland Burlesque
URL;VALUE=URI:https://www.howler.co.za/AliceInWonderland
END:VEVENT
END:VCALENDAR
