BEGIN:VCALENDAR
VERSION:2.0
PRODID:icalendar-ruby
CALSCALE:GREGORIAN
METHOD:PUBLISH
BEGIN:VEVENT
DTSTAMP:20260421T165817Z
UID:6d00a28b-0c74-4c23-8b28-4873260b3f81
DTSTART:20241231T133000
DTEND:20250101T020000
DESCRIPTION:<p>     J<span>oin us at </span><strong>18 Onix Lodge</strong>
 <span> for the ultimate </span><strong>All White New Year’s Eve Party<
 /strong><span> on the 31st of December 2024. Get ready to ring in the new
  year in style with a night full of vibrant </span><strong>DJ sets</stron
 g><span>\, </span><strong>poolside vibes</strong><span>\, and a sizzling
  </span><strong>braai</strong><span> to keep the energy high.</span></p>
 <p><strong>Event Highlights:</strong></p><ul><li><strong>Date:</strong><sp
 an> 31st December 2024</span></li><li><strong>Time:</strong><span> 13:30
  – 02:00</span></li><li><strong>Location:</strong><span> 18 Onix Avenue
 \, Jukskei</span></li><li><strong>Ticket Price:</strong><span> R150 (per 
 person)</span></li><li><strong>Cooler Boxes:</strong><span> R350 (per coo
 ler box)</span></li><li><strong>Strictly No Under 21's</strong></li></ul><
 p><span>Enjoy a lively\, stylish atmosphere with amazing music\, delicious
  food\, and great company. The venue will be offering a variety of service
 s throughout the day\, ensuring you have an unforgettable experience. </s
 pan><strong>Uber is strongly recommended </strong><span>due to limited par
 king space and to ensure a safe journey home.</span></p><p><span style="co
 lor: rgb(0\, 0\, 0)\;">Dress to impress in your best all-white outfit and 
 get ready to dance the night away as we countdown to the new year!</span><
 /p><p><br></p><p><span style="color: rgb(0\, 0\, 0)\;"><span class="ql-cur
 sor">﻿</span></span></p>
LOCATION:18 oniks avenue\, jukskei
SUMMARY:All White New Years Eve Party 
URL;VALUE=URI:https://www.howler.co.za/Onixallwhite
END:VEVENT
END:VCALENDAR
