BEGIN:VCALENDAR
VERSION:2.0
PRODID:icalendar-ruby
CALSCALE:GREGORIAN
METHOD:PUBLISH
BEGIN:VEVENT
DTSTAMP:20260424T165620Z
UID:c7676f0d-e394-4cac-aa08-5a00408eff92
DTSTART:20221231T100000
DTEND:20230101T000000
DESCRIPTION:<p>Are you ready 🔥 🔥 🔥 to have your 🧠 brains litera
 lly blown out of your head 💣 🤯 this colorful festive will do that wi
 th all our Amazing performances we going BIG so watch out for this Epic an
 d awesome lineup</p>
LOCATION:119 Carr Street\, Newtown\, Johannesburg
SUMMARY: ANNUAL NEON COLORFEST 2022 EDITION 
URL;VALUE=URI:https://www.howler.co.za/Eldoscolorfest
END:VEVENT
END:VCALENDAR
