BEGIN:VCALENDAR
VERSION:2.0
PRODID:icalendar-ruby
CALSCALE:GREGORIAN
METHOD:PUBLISH
BEGIN:VEVENT
DTSTAMP:20260422T174642Z
UID:5176ed8c-44ab-4501-a9a1-b7905993be0a
DTSTART:20240928T160000
DTEND:20240929T020000
DESCRIPTION:<p>Area 51 Festival is a versatile event that focuses on bringi
 ng together artists and enhancing the entertainment culture. This event se
 rves as a platform for individuals to showcase their talents and express t
 heir creativity in a welcoming and inclusive atmosphere. Through a diverse
  range of performances\, exhibitions\, and interactive experiences\, Area 
 51 Festival aims to push boundaries and inspire innovation in the entertai
 nment industry.</p><p><br></p><p>The festival prides itself on providing a
  unique space for both emerging and established artists to connect with au
 diences and fellow creatives. By fostering a sense of community and collab
 oration\, Area 51 Festival encourages artistic experimentation and celebra
 tes the power of creative expression.</p><p><br></p><p>With the slogan #Fr
 eethewave\, Area 51 Festival embodies a spirit of freedom\, creativity\, a
 nd exploration. This mantra underscores the festival's commitment to break
 ing barriers\, challenging norms\, and embracing the endless possibilities
  of artistic endeavors. Join us at Area 51 Festival and let your creativit
 y run wild as we come together to unlock the potential within each wave of
  inspiration.</p>
LOCATION:39 Gwi Gwi Mrwebi Street\, Johannesburg\, Gauteng\, 2001
SUMMARY:AREA 51 FESTIVAL ALIEN INVASION 
URL;VALUE=URI:https://www.howler.co.za/Area51festival
END:VEVENT
END:VCALENDAR
