BEGIN:VCALENDAR
VERSION:2.0
PRODID:icalendar-ruby
CALSCALE:GREGORIAN
METHOD:PUBLISH
BEGIN:VEVENT
DTSTAMP:20260423T153900Z
UID:acc1fa74-fb2d-4596-9d26-c5de3fd9599c
DTSTART:20231125T140000
DTEND:20231126T000000
DESCRIPTION:<p><span style="color: rgb(34\, 34\, 34)\;">Get ready for the n
 ext instalment of </span><strong style="color: rgb(34\, 34\, 34)\;">A'RISE
 </strong><span style="color: rgb(34\, 34\, 34)\;"> by </span><strong style
 ="color: rgb(34\, 34\, 34)\;">HEINEKEN</strong><span style="color: rgb(34\
 , 34\, 34)\;"> - the crossroads between Music\, Fashion & Art.</span></p><
 p><span style="color: rgb(34\, 34\, 34)\;">We are gearing up for our 2nd s
 eason\, bringing together the brightest stars and rising talents from acro
 ss South Africa for another series of unforgettable experiences.</span></p
 >
LOCATION:1 Fox Street\, Johannesburg\, Gauteng\, 2048
SUMMARY:Arise by Heineken 2023 @ 1Fox\, JHB
URL;VALUE=URI:https://www.howler.co.za/AriseJHB23
END:VEVENT
END:VCALENDAR
