BEGIN:VCALENDAR
VERSION:2.0
PRODID:icalendar-ruby
CALSCALE:GREGORIAN
METHOD:PUBLISH
BEGIN:VEVENT
DTSTAMP:20260423T154241Z
UID:c564b090-accb-426d-b02a-29c4ea5a15be
DTSTART:20221203T140000
DTEND:20221204T000000
DESCRIPTION:<p><span style="color: rgb(0\, 0\, 0)\; background-color: rgb(2
 55\, 255\, 255)\;">Arise by Heineken® is the intersection of South Africa
 n music\, fashion & art. We’re celebrating the South African creative co
 mmunity\, and amplifying the voice of young tastemakers with an event expe
 rience like none other\, including immersive visual displays\, all-star lo
 cal & international artists\, as well as the dopest collaborations with ou
 r friends\, Yay Abe\, Broke & Float Apparel!</span></p><p><br></p><p><span
  style="color: rgb(0\, 0\, 0)\;">We welcome you to a new multidisciplinary
  experience set to grow supportive communities and celebrate the South Afr
 ican creative landscape!</span></p><p><br></p><p><span style="color: rgb(0
 \, 0\, 0)\;">Join us at </span><span style="color: rgb(0\, 0\, 0)\; backgr
 ound-color: rgb(255\, 255\, 255)\;">Arise by Heineken®</span><span style=
 "color: rgb(0\, 0\, 0)\;"> 2022!</span></p><p><span style="color: rgb(0\, 
 0\, 0)\;">_____________________________________________________________</s
 pan></p><p><br></p><p><u style="color: rgb(0\, 0\, 0)\;">🇿🇦 LINEUP 
 🇿🇦</u></p><p><br></p><p><span style="color: rgb(0\, 0\, 0)\;">Intern
 ational Headliner: </span></p><p><br></p><p><span style="color: rgb(0\, 0\
 , 0)\;">TOBE NWIGWE 🇺🇸</span></p><ul><li><span style="color: rgb(0\,
  0\, 0)\;">https://rb.gy/rt5dip</span></li><li><span style="color: rgb(0\,
  0\, 0)\;">https://rb.gy/aignbd</span></li></ul><p><br></p><p><span style=
 "color: rgb(0\, 0\, 0)\;">Local Headliners: TBA</span></p><p><span style="
 color: rgb(0\, 0\, 0)\;">_________________________________________________
 ____________</span></p><p><br></p><p><u style="color: rgb(0\, 0\, 0)\;">
 🇿🇦 VENUE 🇿🇦</u></p><p><br></p><p><span style="color: rgb(0\, 0
 \, 0)\;">‘STEEL WORKS’</span></p><p><br></p><p><span style="color: rgb
 (0\, 0\, 0)\;">Steel Works in Newtown sets the scene for the first show in
  the Arise by Heineken® 2022 series. An inner-city venue that serves as t
 he perfect canvas for our multi-disciplinary event. We’re incredibly exc
 ited about bringing this venue to life through dynamic visuals\, immersive
  activations\, and all-star local & international artists!</span></p><p><b
 r></p><p><span style="color: rgb(0\, 0\, 0)\;">Steel Works is incredibly a
 ccessible – meaning you\, our all-important festival-goer don’t have t
 o drive\, and are left to enjoy the experience to its fullest! Please Uber
 \, don’t drink & drive.</span></p><p><span style="color: rgb(0\, 0\, 0)\
 ;">_____________________________________________________________</span></p
 ><p><br></p><p><u style="color: rgb(0\, 0\, 0)\;">FINE PRINT </u></p><p> 
 </p><ul><li>Over 18 / No ID\, No entry.</li><li>Entry at own risk.</li><li
 >Right of admission reserved.</li><li>Please don’t drink & drive.</li><l
 i>Look after your possessions.</li></ul><p> </p><p><span style="color: rg
 b(0\, 0\, 0)\;">Participation in this event is entirely at your own risk. 
 The organizers and venue accept no responsibility whatsoever for injury\, 
 death\, loss\, or damage of any nature to persons\, vehicles\, or belongin
 gs\, even in the case of negligence. Due care has been taken to make this 
 event safe and secure. Tickets are non-refundable. There will be filming a
 nd photography taking place at the venue throughout the event: by entering
  you allow organizers to make use of and publish any footage taken on the 
 day. This event write-up is created\, owned\, and published by Arise by He
 ineken®.</span></p><p><br></p><p><br></p>
LOCATION:48 Carr Street\, Newtown\, Johannesburg
SUMMARY:Arise by Heineken - Steel Works\, Johannesburg
URL;VALUE=URI:https://www.howler.co.za/ARISEJHB
END:VEVENT
END:VCALENDAR
