BEGIN:VCALENDAR
VERSION:2.0
PRODID:icalendar-ruby
CALSCALE:GREGORIAN
METHOD:PUBLISH
BEGIN:VEVENT
DTSTAMP:20260423T161904Z
UID:504da864-272b-4385-a3d6-baea7bb84f0d
DTSTART:20221203T160000
DTEND:20221203T220000
DESCRIPTION:<p><span style="color: rgb(33\, 33\, 33)\;">Bassline SUMMER cel
 ebrates the end of the year\, time to have fun and let go\, with the best 
 of Mzansi talent from our most shining stars to our rising stars in the ma
 king!</span></p><p><br></p><p><span style="color: rgb(33\, 33\, 33)\;">See
  Headline artist Samthing Soweto\, Urban-Soul singer-songwriter Langa Mavu
 so\, Pop-trio Beatenberg with special guests Msaki & Tresor jumping on boa
 rd\, as part of their homecoming tour. The lineup is further strengthened 
 with LaliBoi and </span><span style="color: rgb(71\, 80\, 87)\;">renowned
  producer Spoek Mathambo who create a unique and vital blend of Hip-hop\, 
 Jazz and South African tribal music\, their performance is t</span><span s
 tyle="color: rgb(33\, 33\, 33)\;">hanks to the support of Concerts SA and 
 their partners The Royal Norwegian Embassy\, SAMRO & IKS Cultural Consulti
 ng.</span></p><p><br></p><p><span style="color: rgb(33\, 33\, 33)\;">The a
 ddition of Langa Mavuso & Beatenberg really takes the Bassline SUMMER into
  the next level of live music enjoyment.</span></p><p><br></p><p><strong>B
 EATENBERG </strong>are excited to be performing at Bassline SUMMER as par
 t of their homecoming tour\, in support of their new EP entitled ‘<stro
 ng>ON THE WAY TO BEATENBERG</strong>’\, which is the musical stalwarts
 ’ first new offering in 4 years. Having just completed UK dates with <
 strong><em>George Ezra</em></strong>\, the band set off on a sold out head
 line tour on 14 November at Rockwood Music Hall in New York before heading
  to LA\, Paris\, Berlin\, Amsterdam\, London\, <strong>Johannesburg</stro
 ng> and <strong>Cape Town</strong>. They have also just been announced a
 s part of the first 191 artists scheduled for <strong>SXSW 2023</strong>.
 </p><p><br></p><p>Self-produced by the trio\, <strong>BEATENBERG</strong>
  already started writing the EP in the Southern Hemisphere since the summ
 er of 2018/2019. At first they had no plan to release it\, but got back in
 to the songs earlier in 2022. The band recorded the EP at <em>Sunset Reco
 rding Studios </em>outside Stellenbosch\, with a few additions in Cape To
 wn.</p><p><br></p><p>Stream <strong>ON THE WAY TO BEATENBERG </strong>he
 re:</p><p><a href="https://bfan.link/on-the-way-to-beatenberg" target="_bl
 ank" style="color: rgb(149\, 79\, 114)\;"><strong>https://bfan.link/on-the
 -way-to-beatenberg</strong></a></p><p><br></p><p><a href="https://www.yout
 ube.com/watch?v=xu2nwK34hrY" target="_blank" style="color: rgb(149\, 79\, 
 114)\;">Watch the lyric video for '<strong>85</strong>' here!</a></p><p><b
 r></p><p><span style="color: rgb(33\, 33\, 33)\;">The outcome of the call 
 for applications for female lead bands/artists has added two wonderful fre
 sh talents\; Melo B Jones and Rah Punzl. Melo B Jones describes her music 
 as Boom-Bap-Soul\, while Rah Punzl is a </span><span style="color: rgb(71
 \, 80\, 87)\;">Fresh Find" from RnB Soul\, Trap-soul and Afro House. </sp
 an></p><p><br></p><p><span style="color: rgb(71\, 80\, 87)\;">The Creative
  Uprising market will ensure that you will not go hungry and the bars on s
 ite will refresh ones thirst while digesting the hottest talent on offer. 
 Arts & Crafts stalls will also be available to shop from.</span></p><p><br
 ></p><p><span style="color: rgb(33\, 33\, 33)\;">This year Bassline SUMMER
  falls part of Johannesburg’s annual Arts Alive Festival." Says Bassline
  Live's Brad Holmes.  The City of Joburg\, through the Arts Alive Intern
 ational Arts Festival and other initiatives\, continues to support the cre
 ative sector and expand its reach and impact through partnerships. In cele
 bration of the 30</span><sup style="color: rgb(33\, 33\, 33)\;">th</sup><s
 pan style="color: rgb(33\, 33\, 33)\;"> edition of the Arts Alive Interna
 tional Festival 2022\, the Arts Alive Festival will present a variety of a
 rtistic programmes featuring artists from various sectors of the creative 
 industries through cultural activities which includes music\, fashion\, cr
 aft\, comedy\, dance\, theatre\, visual art and cultural educational works
 hops.</span></p><p><br></p><p><br></p>
LOCATION:1 Kotze Street\, Braamfontein\, Johannesburg\, Gauteng\, 2001
SUMMARY:Bassline SUMMER feat SAMTHING SOWETO\, LANGA MAVUSO\, BEATENBERG & 
 guests MSAKI & TRESOR & More
URL;VALUE=URI:https://www.howler.co.za/BasslineSUMMER
END:VEVENT
END:VCALENDAR
