BEGIN:VCALENDAR
VERSION:2.0
PRODID:icalendar-ruby
CALSCALE:GREGORIAN
METHOD:PUBLISH
BEGIN:VEVENT
DTSTAMP:20260423T153538Z
UID:6b446507-3ad1-4e8e-889d-581f185ddb2d
DTSTART:20250322T190000
DTEND:20250323T010000
DESCRIPTION:<p><span style="color: rgb(32\, 33\, 36)\;">DJs\, the decks are
  calling🔥 </span></p><p><br></p><p>The View is turning up the tempo wi
 th Battle of the DJs\, the ultimate face-off to find South Africa’s TOP 
 DJ!</p><p><br></p><p> If you can drop the beats\, mix the magic\, and ign
 ite the energy\, this is your time to shine. The champion will claim R50 0
 00 worth of prizes and an unreal opportunity to perform on an internationa
 l stage! </p><p><br></p><p>But the beat doesn’t stop there—the top 4 
 finalists will secure a sizzling\, sought-after\, one-year residency at Th
 e View! Ready to command the crowd\, conquer the competition\, and claim y
 our crown? </p><p><br></p><p>Sign up and enter the first round of Battle 
 of the DJs on 22 March 2025. </p><p>https://forms.gle/QRD1D7QABwk6rasYA</
 p><p><br></p><p>The stage is set—bring the fire! 🔥 </p><p><br></p><
 p>Please send us a WhatsApp for all VIP Table Bookings: 069 645 0411</p><p
 ><br></p>
LOCATION:9 Skeen Boulevard\, Bedfordview
SUMMARY:Battle of the DJs: Round One
URL;VALUE=URI:https://www.howler.co.za/BattleoftheDJsRoundOne
END:VEVENT
END:VCALENDAR
