BEGIN:VCALENDAR
VERSION:2.0
PRODID:icalendar-ruby
CALSCALE:GREGORIAN
METHOD:PUBLISH
BEGIN:VEVENT
DTSTAMP:20260424T061254Z
UID:523a014f-cc2b-4517-aae1-c5a3f28fd4bb
DTSTART:20230916T200000
DTEND:20230917T110000
DESCRIPTION:<p><span style="color: rgb(0\, 0\, 0)\;">EPICURE is a </span><a
  href="https://epicure.club/bdsm" target="_blank" style="color: rgb(0\, 0\
 , 0)\;">BDSM club</a>\, <span style="color: rgb(0\, 0\, 0)\;">a discreet a
 lternative lifestyle venue unlike any other. An adult playground where you
  can live out your fantasy and have your discreet adventure. Enjoy a night
  of sensuality. </span><span style="color: rgb(64\, 77\, 87)\;">Engage a 
 </span><a href="https://epicure.club/bdsm/dominatrix" target="_blank" styl
 e="color: rgb(236\, 11\, 98)\;">Dominatrix in Cape Town</a>. O<span style=
 "color: rgb(64\, 77\, 87)\;">r a </span><a href="https://epicure.club/bds
 m/dom" target="_blank" style="color: rgb(236\, 11\, 98)\;">Dom</a><span st
 yle="color: rgb(64\, 77\, 87)\;">. </span><span style="color: rgb(0\, 0\, 
 0)\;">Try Shibari\, sensual wax play\, spanking or any of the kinks on off
 er. </span></p><p><br></p><p><span style="color: rgb(0\, 0\, 0)\;">No ques
 tions asked. No Photography. No regrets. No shame.</span></p><p><br></p><p
 >We strongly suggest appropriate <a href="https://epicure.club/blog/fetis
 h-kinky-dress-code" target="_blank" style="color: rgb(118\, 79\, 219)\;">f
 etish wear</a>. Evening wear like a Tuxedo or ball gown are an acceptable 
 alternative. Please NO street & casual wear.</p><p><br></p><h3>Security</h
 3><p><a href="https://executiveservice.co.za/" target="_blank" style="colo
 r: rgb(118\, 79\, 219)\;">Executiveservice.co.za</a> will be on site.</p>
 <p><br></p><h3>R.O.A.R.</h3><p>Right of Admission is reserved.</p><p><br><
 /p><h2>Information</h2><p>Contact us at <a href="mailto:hello@epicure.clu
 b" target="_blank" style="color: rgb(118\, 79\, 219)\;">hello@epicure.club
 </a> or <a href="tel:%E2%80%AD+27748780000" target="_blank" style="color
 : rgb(118\, 79\, 219)\;">‭+27 (74) 878 0000‬‬</a></p><p><br></p><p><
 br></p>
LOCATION:4 Little Lions Head Rd\, Cape Town
SUMMARY:BDSM Party  September 16\, 2023
URL;VALUE=URI:https://www.howler.co.za/bdsm-party-14
END:VEVENT
END:VCALENDAR
