BEGIN:VCALENDAR
VERSION:2.0
PRODID:icalendar-ruby
CALSCALE:GREGORIAN
METHOD:PUBLISH
BEGIN:VEVENT
DTSTAMP:20260421T100701Z
UID:bc440d38-8632-450f-9e33-d1c8b342289c
DTSTART:20251231T120000
DTEND:20260101T120000
DESCRIPTION:<p class="ql-indent-1"><strong>Introduction</strong></p><p><br>
 </p><p><br></p><p>HVPPY LTD Presents...</p><p><br></p><p>#roadtobehvppynye
 festival2025</p><p>The event is for the public\, to empower and expose up 
 and coming artists an entrepreneurs to show case their artistry\, market &
  sell their works to expose themselves and be recognized by the public dom
 ain and a platform for artists and the youth to collabrate and forge long 
 lasting and productive relationships both on a personal and business orien
 tated basis.</p><p><br></p><p><strong>About us</strong></p><p><br></p><p>T
 he Be HVPPY LTD N.Y.E Festival event occurs on an annual basis\, every 31s
 t of December till the 1st of January. It is a live concert\, New Year’s
  Eve festival which is a public event that features a variety of upcoming 
 artist & bands\, including prominent ones. The event Consist of workshops\
 , where young and upcoming artist and entrepreneurs sell and market their 
 works through a series of interactive workshops or stalls. The event focus
 es on exposing the companies assigned music catalogs and push product and 
 services produced and manufaured by the company to the public domain indep
 endently as a brand of South Africa and a platform for the company to conn
 ect more closely to its audiences.</p><p><br></p><p>The event is a free en
 try public event\, however\, a Be HVPPY new years eve cup is your access t
 oken to enter in the event.</p><p><br></p><p>" Its a free entry event beca
 use you dont pay for the ticket but for the cup and the packages that come
  with it".</p><p><br></p><p>The event is in collaboration with different s
 tance communities from different regions like Soweto\, VAAL\, to name a fe
 w...Who come together to showcase their cars as part of the main event act
 ivities associated with the event called the Park off and chill.</p><p><br
 ></p><p><strong>Stance Associates with</strong></p><p><br></p><p>Stance ma
 fia club</p><p>Kasi stance productions</p><p>Soweto stance daily</p><p><br
 ></p><p>Experience :</p><p>Day experience</p><p>__________________________
 _________</p><p>From 12pm til 6pm</p><ul><li>Game zone (play ground)</li><
 /ul><p>Stall closes at 6pm sharp</p><ul><li>Live performances only</li></u
 l><p>From 6pm till 12pm</p><p><br></p><p>Night experience</p><p>__________
 ___________________________</p><p><br></p><p>From 6pm till 12pm</p><ul><li
 >Dj sets only</li></ul><p><br></p><p><strong><u>Please Note</u></strong></
 p><p><strong><u>Physical order purchases include :</u></strong></p><p><br>
 </p><p>By visiting our physical Be HVPPY store and our retail partners lis
 ted below\, you can simply get the Be HVPPY cup product there and recieve 
 your free Be HVPPY ticket. All stores are located nearest were the event v
 enue is located. This is our current listing retail stores. More listings 
 will be available.</p><p><br></p><p>1. ZAMA ZAMA Tuck Shop.</p><p>2. Ntomb
 i's Take away and Spaza shop.</p><p>3. Mido liqour store.</p><p>4. Andrews
  Snack bar</p><p>5. NZTT Take Away Mobile store.</p><p><br></p><p>Repurcha
 ses</p><p><br></p><p>Since the awarness process starts from jan till the d
 ay of the event. Anyone of our clients who have lost the cup and has proof
  for purchase on the gate. They will be given a 85% off discount. Where th
 ey will pay R15 for each cup they had lost.</p><p>NB: No refunds</p><p><u>
 2023 edition</u></p><p><br></p><p>https://youtu.be/lkk8wC2U9Tw?si=syNxEtEs
 HEb_AYLF</p><p><br></p><p><u>(highlight\, copy & tap the browse option/ co
 py and browse to your browser search option to view video on YouTube )</u>
 </p><p><br></p><p>Line up will be available from October 2024</p><p><br></
 p><p><br></p>
LOCATION:11346 Tambo street 
SUMMARY:Be HVPPY NYE FESTIVAL 
URL;VALUE=URI:https://www.howler.co.za/RoadBehvppynyefestival2024
END:VEVENT
END:VCALENDAR
