BEGIN:VCALENDAR
VERSION:2.0
PRODID:icalendar-ruby
CALSCALE:GREGORIAN
METHOD:PUBLISH
BEGIN:VEVENT
DTSTAMP:20260424T032233Z
UID:e19ae7a9-f522-4172-b12d-593da61c3b07
DTSTART:20250607T110000
DTEND:20250607T140000
DESCRIPTION:<p>Join us for the official launch of <em>Bee Coin Wise</em> 
 – the company that’s about to transform how you think about wealth\, v
 alue and community. Expect an unforgettable experience filled with inspira
 tion\, entertainment\, and innovation at the iconic <strong>Barnyard Theat
 re\, Menlyn</strong>. Be part of the movement that’s buzzing with potent
 ial! LIMITED SEATS - DON'T DELAY! Open your account and BOOK TODAY!</p><p>
 This is more than a launch—it’s the beginning of self empowerment. Are
  you ready?!</p>
LOCATION:Menlyn Park Shopping Centre\, Atterbury Road & Lois Ave\, Menlyn\,
  Pretoria
SUMMARY:Bee Coin Wise Hive Heroes 2025
URL;VALUE=URI:https://www.howler.co.za/becwlaunch
END:VEVENT
END:VCALENDAR
