BEGIN:VCALENDAR
VERSION:2.0
PRODID:icalendar-ruby
CALSCALE:GREGORIAN
METHOD:PUBLISH
BEGIN:VEVENT
DTSTAMP:20260423T161822Z
UID:f904e3c6-dbbe-49d4-8ee2-176ab90d1435
DTSTART:20231104T190000
DTEND:20231105T040000
DESCRIPTION:<p><span>The Official Bella Napoli Reunion Party </span></p><p
 ><br></p><p><span>Relive those Epic nights of Bella's Clubbing with your f
 riends and Family. </span></p><p><br></p><p><span>From Sunset to Sunrise.
  </span></p><p><br></p><p><span>Featuring DJ'S </span></p><p><br></p><p>
 <br></p><ul><li>ANTON VAN DOGEN</li><li>DIZZY </li><li>CHRIS DALAMAKIS</li
 ></ul><p><br></p><p><span>Let's go back in Time and Relive Special Moments
 . </span></p><p><br></p><p><span>Venue:</span></p><p><br></p><ul><li>Safe
 </li><li>Plenty of Parking Space</li><li>Luxurious and Spacious Inside</li
 ><li>More than enough Restrooms</li><li>3 Bars</li><li>Personal Experience
  </li><li>Insane Drink Specials </li></ul><p><br></p><p><span>No under 25'
 s and the Right of Admission is Reserved </span></p><p><span>Drug and Gun
 -Free Club</span></p><p><br></p>
LOCATION:Cnr Northrand & Gibb Rds\, Boksburg
SUMMARY:Bella Napoli Reunion 80's and 90's - Presley's Boksburg 
URL;VALUE=URI:https://www.howler.co.za/Bellas04
END:VEVENT
END:VCALENDAR
