BEGIN:VCALENDAR
VERSION:2.0
PRODID:icalendar-ruby
CALSCALE:GREGORIAN
METHOD:PUBLISH
BEGIN:VEVENT
DTSTAMP:20260424T171449Z
UID:fcc39aab-9275-44d6-a319-d34791306f9f
DTSTART:20211127T100000
DTEND:20211127T210000
DESCRIPTION:<p>On the 27th of November 2021\, The Green. LIVE & The Green. 
 Craft Bar are proud to announce the 5TH EDITION of the Annual Beer & Gin F
 estival which has been postponed by over a year and a half\, due to covid!
  Local craft breweries\, Gin distilleries\, delicious food & a fantastic m
 usic line-up to be announced!</p><p><br></p><p>This years Beer & Gin Fest 
 will be limited to 2 000 pax as per updated Covid regulations!</p><p><br><
 /p><p>Brewers\, distillers and support acts will be announced over the com
 ing months\, so be sure to keep an eye on our page for further details or 
 visit The Green. Craft Bar at the Benoni Country Club for more info!</p><p
 ><br></p><p>The first 500 entrants to the Beer & Gin Fest on the day will 
 also receive a FREE branded Beer & Gin cup!</p>
LOCATION:1 Brodigan St\, Benoni\, Gauteng
SUMMARY:Benoni Beer & Gin Fest 2021
URL;VALUE=URI:https://www.howler.co.za/BeerandGin
END:VEVENT
END:VCALENDAR
