BEGIN:VCALENDAR
VERSION:2.0
PRODID:icalendar-ruby
CALSCALE:GREGORIAN
METHOD:PUBLISH
BEGIN:VEVENT
DTSTAMP:20260419T185856Z
UID:58e92d77-0d9d-47d8-be3b-c48d0fd3a8dd
DTSTART:20260330T140000
DTEND:20260330T160000
DESCRIPTION:<p><strong>Bento Cake Painting Workshop on 30 March 🍰✨</st
 rong></p><p><br></p><p><span>Unleash your child’s inner artist at our Be
 nto Cake Painting Workshop – a sweet blend of creativity and fun! 🌈 E
 ach child will receive a freshly iced Bento (Lunchbox) Cake to paint and d
 ecorate using colourful icing and edible toppings. From brush strokes to s
 prinkling sparkles\, every cake becomes a one-of-a-kind masterpiece! 🎨
 ✨ Join us for a deliciously creative afternoon and let the fun begin! 
 🎉 Reserve your spot today!</span></p><p><br></p><p>🎟️ <strong>TICK
 ET INFO</strong></p><p><span>R150 per person for the Workshop & Playtime C
 ombo</span></p><p><span>Tickets are available at:</span></p><p><a href="ht
 tp://www.howler.co.za/kidsfactory" target="_blank">www.howler.co.za/kidsfa
 ctory</a></p><p><br></p><p><strong>The combo includes:</strong></p><p><spa
 n>🍰 Bento Cake Painting Workshop</span></p><p><span>🛝 90 minutes of 
 play time at Kids Factory</span></p><p><em>(Excludes compulsory safety gri
 p socks - R35 per pair or bring your own KF pair)</em></p><p><br></p><p>Sp
 ots are limited. Book soon!</p><p><br></p><p>📍 <strong>Where:</strong><
 span> Kids Factory\, 17 Bottelary Road\, Brackenfell\, Cape Town</span></p
 ><p><span>📅 </span><strong>When:</strong><span> Monday\, 30 March 2026<
 /span></p><p><span>⏰ </span><strong>Time:</strong><span> 14:00 – 16:00
 </span></p><p><span>💰 </span><strong>Cost:</strong><span> R150 per chil
 d (excl Howler fee)</span></p><p><br></p><p>Recommended age: 2 to 10</p><p
 ><span>We have a licensed restaurant on site</span></p><p><span>All-inclus
 ive workshops for boys & girls</span></p><p><span>Ticket excludes compulso
 ry Kids Factory grip socks</span></p><p><br></p><p>📞 Call 079 219 6577<
 /p><p><span>📲 WhatsApp 084 990 4482</span></p><p><br></p>
LOCATION:17 Bottelary Road\, Brackenfell
SUMMARY:Bento Cake Painting Workshop
URL;VALUE=URI:https://www.howler.co.za/KFBento30
END:VEVENT
END:VCALENDAR
