BEGIN:VCALENDAR
VERSION:2.0
PRODID:icalendar-ruby
CALSCALE:GREGORIAN
METHOD:PUBLISH
BEGIN:VEVENT
DTSTAMP:20260423T155614Z
UID:bcb92a31-aa3d-43b0-82da-1d020eefd019
DTSTART:20200410T170000
DTEND:20200410T190000
DESCRIPTION:<p>This weekend we are bringing you Live BET JAMS Sessions from
  top hitmakers @ROCCORODAMAAL and @RalfGUM. <a href="https://www.facebook.
 com/hashtag/tunein?source=feed_text&epa=HASHTAG&__xts__%5B0%5D=68.ARBkjN-M
 jFUYLnUXku4mMfAKgjCgaAft4NwhiqPcURolTka-sFIwCKUfSgzRovQwlZKGCmtg4bkcHNOyA2
 9sbWYrR_9j_4nKkP6LYO_XVGFTaHjkeSQic8fhsBwJddq9VatPZjBvrPtDEepSF8E-VFvrrNBt
 uVhp2hMA8A2NoWc0F3QjDEFygdBdn-jA-otWk3YRd-Ds80kzxfekY2G8RXTG1qFYtMSFoVqorM
 aU2oWpEQsdiWVH_m_Sud0IjSUwOYwc2-cptvIxz3io9F4gfWQtvQMHTCe4lMMTHCb6r1s19Jvc
 Rzg0OZHVA75FnYaEI4ml_-8myrzWANMkFTBRTaLzKQ&__tn__=%2ANK-R" target="_blank"
  style="color: rgb(54\, 88\, 153)\;">#</a><a href="https://www.facebook.co
 m/hashtag/tunein?source=feed_text&epa=HASHTAG&__xts__%5B0%5D=68.ARBkjN-MjF
 UYLnUXku4mMfAKgjCgaAft4NwhiqPcURolTka-sFIwCKUfSgzRovQwlZKGCmtg4bkcHNOyA29s
 bWYrR_9j_4nKkP6LYO_XVGFTaHjkeSQic8fhsBwJddq9VatPZjBvrPtDEepSF8E-VFvrrNBtuV
 hp2hMA8A2NoWc0F3QjDEFygdBdn-jA-otWk3YRd-Ds80kzxfekY2G8RXTG1qFYtMSFoVqorMaU
 2oWpEQsdiWVH_m_Sud0IjSUwOYwc2-cptvIxz3io9F4gfWQtvQMHTCe4lMMTHCb6r1s19JvcRz
 g0OZHVA75FnYaEI4ml_-8myrzWANMkFTBRTaLzKQ&__tn__=%2ANK-R" target="_blank" s
 tyle="color: rgb(56\, 88\, 152)\;">TuneIn</a> to BET_Africa Facebook\, In
 stagram & Youtube this Friday 10 April.</p>
SUMMARY:BET Jams Home Sessions with Rocco Rodamaal & Ralf Gum
URL;VALUE=URI:https://www.howler.co.za/betjams10april
END:VEVENT
END:VCALENDAR
