BEGIN:VCALENDAR
VERSION:2.0
PRODID:icalendar-ruby
CALSCALE:GREGORIAN
METHOD:PUBLISH
BEGIN:VEVENT
DTSTAMP:20260420T150557Z
UID:42dab80e-a58f-4799-86fe-9e849d96b376
DTSTART:20250419T180000
DTEND:20250420T020000
DESCRIPTION:<p>Catch Biggy LIVE at Jolly Dolphin on 19 April 2025! Be sure 
 for an amazing performance and experience! See you there!</p><p><br></p>
LOCATION:30 Diaz Road\, Jeffrey’s Bay\, Eastern Cape
SUMMARY:BIGGY LIVE AT JOLLY DOLPHIN
URL;VALUE=URI:https://www.howler.co.za/Biggyeaster
END:VEVENT
END:VCALENDAR
