BEGIN:VCALENDAR
VERSION:2.0
PRODID:icalendar-ruby
CALSCALE:GREGORIAN
METHOD:PUBLISH
BEGIN:VEVENT
DTSTAMP:20260421T205332Z
UID:bb7b1a08-4371-43eb-a5a3-dc5ca2db100c
DTSTART:20240224T100000
DTEND:20240225T010000
DESCRIPTION:<p>Welcome to the exhilarating world of Bike Town. The music fe
 stival take place on 24th of February\, 2024\, at the famous Mentors Count
 ry Estate\, Jeffrey’s Bay. Get ready for a thrilling experience!</p><p><
 br></p><p>One of the most exciting aspects of Bike Town is the ambitious a
 ttempt to set a world record of 4500 Bikers. Bikers from across the countr
 y will converge to create history by achieving the most motorbikes on the 
 road during the festival. It's not just about the roar of engines but a sy
 mbolic display of unity and camaraderie\, all for a cause that resonates w
 ith compassion.</p><p><br></p><p>As you mark your calendar for 24 February
  2024\, anticipate the reverberating tunes\, the culinary delights\, and t
 he electric energy that defines Bike Town. Join us in making a difference\
 , one note and one ride at a time\, as we contribute to the well-being of 
 children in need.</p><p><br></p>
LOCATION:Mentors Country Estate Jeffreys Bay
SUMMARY:BIKE TOWN SOUTH AFRICA
URL;VALUE=URI:https://www.howler.co.za/Biketownsa
END:VEVENT
END:VCALENDAR
