BEGIN:VCALENDAR
VERSION:2.0
PRODID:icalendar-ruby
CALSCALE:GREGORIAN
METHOD:PUBLISH
BEGIN:VEVENT
DTSTAMP:20260421T165521Z
UID:1d3b9db6-190f-4d2d-839f-a13db56c5770
DTSTART:20221216T140000
DTEND:20221217T020000
DESCRIPTION:<p>1st Annual Blackout Fest is an Event that will be hosted in 
 Centurion after 5 consecutive years of successful parties\, it’s an Even
 t for the youth by the youth♿️🌶 . The event will include day vibes 
 ⛱  Gates open at 14:00PM and cooler box will be free till 17:00PM. Food 
 and Alcohol will be sold🥤. </p>
LOCATION:Zwartkop Lapa Centurion 
SUMMARY:Blackout Fest 
URL;VALUE=URI:https://www.howler.co.za/Blackoutfest
END:VEVENT
END:VCALENDAR
