BEGIN:VCALENDAR
VERSION:2.0
PRODID:icalendar-ruby
CALSCALE:GREGORIAN
METHOD:PUBLISH
BEGIN:VEVENT
DTSTAMP:20260424T170406Z
UID:bed906fd-9556-40cc-bfa8-98abfcc32524
DTSTART:20220827T110000
DTEND:20220827T210000
DESCRIPTION:<p><span style="background-color: initial\;">People of Bloemfon
 tein\, we hope you are ready! We bring you the SCHWEPPES BLOEMFONTEIN GIN 
 FESTIVAL on Saturday 27 August. The rooftop of the Mimosa Mall will be tra
 nsformed into a gin wonderland. This event will not only showcase a wide v
 ariety of gin products\, but also the finest food trucks and amazing live 
 music. Tickets are limited\, so get yours before they are sold out!</span>
 </p><p><br></p><p><span style="background-color: initial\;">Ticket price i
 ncludes a complimentary gin glass and gin and tonic cocktail on arrival.</
 span></p><p><span style="background-color: initial\;"> </span></p><p><spa
 n style="background-color: initial\;">No under 18's.</span></p><p><span st
 yle="background-color: initial\;"> </span></p><p><span style="background-
 color: initial\;">No food or beverage items may be brought into the event 
 venue.</span></p><p><span style="background-color: initial\;"> </span></p
 ><p><span style="background-color: initial\;">Don't drink and drive. Enjoy
  responsibly.</span></p><p><span style="background-color: initial\;"> </s
 pan></p><p><span style="background-color: initial\;">Right of admission re
 served.</span></p>
LOCATION:Mimosa Mall\, Bloemfontein
SUMMARY:Bloemfontein Gin Festival 2022
URL;VALUE=URI:https://www.howler.co.za/Bloemfontein_Gin_Festival
END:VEVENT
END:VCALENDAR
