BEGIN:VCALENDAR
VERSION:2.0
PRODID:icalendar-ruby
CALSCALE:GREGORIAN
METHOD:PUBLISH
BEGIN:VEVENT
DTSTAMP:20260424T205234Z
UID:eb81569b-bb57-42a5-a707-a8094665b3bf
DTSTART:20191214T170000
DTEND:20191214T220000
DESCRIPTION:<p>BOGUS BITES SUPPER CLUB IS A</p><p>CULINARY EXPERIENCE CULTI
 VATED</p><p>BY OUR EXECUTIVE CHEF'S PASSION</p><p>FOR RUSTIC FINE DINING W
 HERE THE </p><p>FINEST INGREDIENTS AND TECHNIQUES</p><p>ARE USED TO CREATE
  DISHES THAT ARE</p><p>AN EXPRESSION OF HIS OWN EXPERIENCES.</p><p>ALONGSI
 DE BEAUTIFUL CONTEMPORARY</p><p>SPACES\, THIS EXPERIENCE IS CREATED TO</p>
 <p>ENHANCE EACH INDIVIDUAL DINNERS</p><p>VIEW AND PERCEPTION OF MODERN</p>
 <p>FINE DINING. UNPRETENTIOUS\, ELEGANT\,</p><p>SIMPLE AND EXECUTED BEAUTI
 FULLY.</p>
LOCATION:522 Atterbury Rd\, Menlo Park\, Pretoria\, 0102
SUMMARY:BOGUS BITES SUPPER CLUB
URL;VALUE=URI:https://www.howler.co.za/BogusBitesSupperClub
END:VEVENT
END:VCALENDAR
