BEGIN:VCALENDAR
VERSION:2.0
PRODID:icalendar-ruby
CALSCALE:GREGORIAN
METHOD:PUBLISH
BEGIN:VEVENT
DTSTAMP:20260419T134833Z
UID:bbd55076-a0bf-4b70-aa4a-be4931dcddc5
DTSTART:20251213T170000
DTEND:20251214T040000
DESCRIPTION:<p>BollyRave Festival Durban Finale.</p>
LOCATION:Shop 1 Moses Mabhida Stadium\, Isaiah Ntshangase Rd\, Stamford Hil
 l\, Durban\, 4023
SUMMARY:BollyRave Festival Durban - Finale
URL;VALUE=URI:https://www.howler.co.za/brfdbn2025
END:VEVENT
END:VCALENDAR
