BEGIN:VCALENDAR
VERSION:2.0
PRODID:icalendar-ruby
CALSCALE:GREGORIAN
METHOD:PUBLISH
BEGIN:VEVENT
DTSTAMP:20260421T130909Z
UID:5fbd1421-6a4c-49b6-aafe-1d19edfe008b
DTSTART:20251025T100000
DTEND:20251025T220000
DESCRIPTION:<p><span style="color: rgb(34\, 34\, 34)\;">Brazil Fest: Where 
 Culture Meets Car Culture</span></p><p><br></p><p><br></p><p><span style="
 color: rgb(34\, 34\, 34)\;">Get ready for the ultimate fusion of street vi
 bes\, automotive flair\, and Brazilian-inspired energy!</span></p><p><span
  style="color: rgb(34\, 34\, 34)\;">Brazil Fest is not just a car event 
 — it’s a celebration of community\, culture\, and creativity. Whether 
 you’re a stance enthusiast\, a car build junkie\, or just looking for a 
 weekend vibe\, this event brings together the sickest rides\, live enterta
 inment\, food stalls\, and non-stop action.</span></p><p><br></p><p><span 
 style="color: rgb(34\, 34\, 34)\;">﻿Event Highlights:</span></p><p><span
  style="color: rgb(34\, 34\, 34)\;">• Custom Builds & Stanced Beauties f
 rom all over SA</span></p><p><span style="color: rgb(34\, 34\, 34)\;">• 
 Slammed Sundayz x Pretoria Stance Society x 012 Stance Collab</span></p><p
 ><span style="color: rgb(34\, 34\, 34)\;">• Food Trucks & Vendors servin
 g street eats </span></p><p><span style="color: rgb(34\, 34\, 34)\;">• 
 Ticket Giveaways\, Competitions & Car Limbo Challenges</span></p>
LOCATION:Proclamation Hill R55 Hwy &\, Quagga Rd\, West Park\, Pretoria\, 0
 146
SUMMARY:Brazil Fest 2025
URL;VALUE=URI:https://www.howler.co.za/brazilfest25october2025
END:VEVENT
END:VCALENDAR
