BEGIN:VCALENDAR
VERSION:2.0
PRODID:icalendar-ruby
CALSCALE:GREGORIAN
METHOD:PUBLISH
BEGIN:VEVENT
DTSTAMP:20260422T170839Z
UID:cc542dd7-add8-4e70-8958-b3001fab84eb
DTSTART:20210731T130000
DTEND:20210731T210000
DESCRIPTION:<p>Copper Bar will be opening up our doors on Saturday 31 July.
  We will have additional screens for the British Lions and South Africa ga
 me.</p><p><br></p><p>Doors open at 1pm.</p><p>Free Gin on arrival included
 </p><p>50 % off Sushi excluding Sashimi</p><p>Build up 4.30pm</p><p>Game 6
 pm</p>
LOCATION:Corner Main Office Park\, 2 Payne Road\, Bryanston\, Sandton\, Joh
 annesburg\, Gauteng\, 2191
SUMMARY:British & Irish Lions vs South Africa Saturday 31 July 
URL;VALUE=URI:https://www.howler.co.za/coppbar31july
END:VEVENT
END:VCALENDAR
