BEGIN:VCALENDAR
VERSION:2.0
PRODID:icalendar-ruby
CALSCALE:GREGORIAN
METHOD:PUBLISH
BEGIN:VEVENT
DTSTAMP:20260422T170742Z
UID:980ff614-a238-4a20-9145-43e89d6773b8
DTSTART:20240914T110000
DTEND:20240914T180000
DESCRIPTION:<h3>✨<strong> INTRODUCING THE BRUTAL FRUIT SPRITZER SATURDAY
  BRUNCH!</strong> ✨</h3><p><br></p><p><strong>THE EXPERIENCE</strong></
 p><p>Brutal Fruit Spritzer kicks off its spring/summer 2024 tour in Durban
 \, and making it’s way to Johannesburg and Cape Town!</p><p>We know how
  much our besties love our #SpritzerSaturday events\, so we’re opening i
 t up to the public to enjoy in the beauty and sophistication with us.</p><
 p>Welcome to the ultimate socialising occasion with your faves - The Bruta
 l Fruit Spritzer Saturday Brunch! </p><p>We can’t wait to see you! </p
 ><p>CLINK CLINK!🥂</p><p><strong>FASHION </strong>💅🏽</p><p>Dress 
 up in your most Brunch-tastic fit! Experience what it means to truly belon
 g in any space with us. </p><p>However\, if you’re feeling a little mor
 e casual\, come as you are… just make sure you’re there! #YouBelong <
 /p><p><strong>FOOD & DRINKS </strong>🥂</p><p>Guests will receive a COM
 PLIMENTARY Brutal Fruit Spritzer upon arrival.</p><p>Brunch Boxes are avai
 lable on Pre-Order ONLY on checkout.</p><p>Fabulous food stalls will also 
 be available on site to delight your tastes all day long.</p><p>No alcohol
  is permitted to be brought onto the premises. We will have Brutal Fruit 
 Spritzer Bars and refreshments of a wide variety available for your enjoym
 ent!</p><p>🌸<strong> NO PERSONS UNDER THE AGE OF 18 </strong>🌸<str
 ong> </strong></p>
LOCATION:Ballito\, Sheffield Beach\, Dolphin Coast
SUMMARY:Brutal Fruit Spritzer Saturday Brunch DBN 
URL;VALUE=URI:https://www.howler.co.za/BFSpritzerBrunchDBN24
END:VEVENT
END:VCALENDAR
