BEGIN:VCALENDAR
VERSION:2.0
PRODID:icalendar-ruby
CALSCALE:GREGORIAN
METHOD:PUBLISH
BEGIN:VEVENT
DTSTAMP:20260419T132700Z
UID:a4a84136-fa55-465d-95f5-7f478d109d05
DTSTART:20240608T150000
DTEND:20240609T010000
DESCRIPTION:<p><strong>MAS Productions </strong>Proudly Presents the first 
 installment of <strong>Champagne Garden</strong> at their stunning <strong
 >new venue\,</strong> <strong>The</strong> <strong>Runway Champagne Bar</s
 trong> at the <strong>Birchwood Hotel</strong> in <strong>Boksburg</strong
 >.<span> The Champagne Garden Event is an exquisite affair\, a celebration
  of luxury and refinement that transcends the ordinary.</span></p><p> </p>
 <p>Join us early as we experience the sunset in the garden listening to th
 e soulful tunes dished out by our star studded line up of deejays and expe
 rience the Day Vibez of the Runway.</p><p><br></p><p><span>Picture this: g
 uests mingling under the soft glow of twinkling lights\, the air alive wit
 h laughter and the clinking of crystal flutes. Champagne\, the elixir of c
 elebration\, flows freely\, its effervescence mirroring the joyous atmosph
 ere. But beyond the glamour and extravagance\, the Champagne Garden Event 
 is also an opportunity for connection and camaraderie. It’s a place wher
 e like-minded individuals gather to celebrate life’s special moments\, f
 orge new friendships\, and revel in the magic of the present.</span></p><p
 ><br></p><p><span>The Champagne Garden Event is a testament to the art of 
 celebration. It’s where memories are made\, bonds are strengthened\, and
  dreams are toasted beneath the stars.</span></p><p><br></p><p>Looking for
 ward to making this a memorable event with you!!!</p><p><br></p><p>Kind Re
 gards:</p><p>MAS Productions</p>
LOCATION:44 View Point Rd\, Bartlett AH\, Boksburg (Birchwood hotel) 
SUMMARY:Champagne Garden
URL;VALUE=URI:https://www.howler.co.za/champagnegarden
END:VEVENT
END:VCALENDAR
