BEGIN:VCALENDAR
VERSION:2.0
PRODID:icalendar-ruby
CALSCALE:GREGORIAN
METHOD:PUBLISH
BEGIN:VEVENT
DTSTAMP:20260424T205407Z
UID:1f1a7b65-b491-4b73-8822-bcc094adaf8c
DTSTART:20211212T140000
DTEND:20211212T220000
DESCRIPTION:<p>On the 12th of December 2021\, Elegant Monarchy will be host
 ing their first ever Champagne in the Bush event. The event will be one wh
 ere stylish attire will be the order of the day. Complemented with some o
 f SA’s finest Méthode Cap Classiques (MCC) and Champagnes. This event i
 s guaranteed to be the talk of the town. Come and join us for an afternoon
  of great food\, great music and great ambiance.</p><p>The iconic Elegant 
 Monarchy Lodge will serve as the spectacular backdrop for the day’s fest
 ivities\, where guests will have no excuse but to sit back\, relax and sam
 ple the wide range of local MCC’ s and select French champagnes on offer
 . The grand VIP marquee – the place to be seen – will be oozing style\
 , elegance and sophistication\, as guests will mingle with local MCC produ
 cers as well as a handful of international brands.</p>
LOCATION:Plot 24 Wallmansthal Road\, Pretoria\, 0120
SUMMARY:Champagne In The Bush Festival
URL;VALUE=URI:https://www.howler.co.za/champagneinthebush
END:VEVENT
END:VCALENDAR
