BEGIN:VCALENDAR
VERSION:2.0
PRODID:icalendar-ruby
CALSCALE:GREGORIAN
METHOD:PUBLISH
BEGIN:VEVENT
DTSTAMP:20260421T102409Z
UID:277aeec1-14ad-47ab-968e-10bf98ab83ba
DTSTART:20250411T093000
DTEND:20250411T153000
DESCRIPTION:<p><strong>Join the China Ready® Workshop at WTM Africa</stron
 g></p><p><br></p><p>Enhance your business’s appeal to the world’s larg
 est outbound tourism market with the China Ready® Workshop\, an exclusive
  opportunity tailored for WTM Africa attendees.</p><p>This essential progr
 am equips travel professionals and service providers with the knowledge an
 d tools to cater to Chinese travellers\, a rapidly growing segment in the 
 global tourism industry. </p><p><br></p>
LOCATION:Corner of Heerengracht & Rua Bartholomeu Dias\, Heerengracht St\, 
 Foreshore\, Cape Town\, 8001
SUMMARY:China Ready® Workshop at WTM Africa
URL;VALUE=URI:https://www.howler.co.za/chinareadyworkshop
END:VEVENT
END:VCALENDAR
