BEGIN:VCALENDAR
VERSION:2.0
PRODID:icalendar-ruby
CALSCALE:GREGORIAN
METHOD:PUBLISH
BEGIN:VEVENT
DTSTAMP:20260425T183400Z
UID:ae7fd6f1-a103-4641-915e-0afb284eb5e7
DTSTART:20251130T120000
DTEND:20251130T235900
DESCRIPTION:<p><strong>South Africa\, you asked – and we listened.</stron
 g></p><p>Codigo Tequila proudly presents the launch of <strong>Theatre</s
 trong>\, a new event series bringing global icons to local stages. For our
  debut edition\, we welcome the deeply anticipated <strong>Lane 8</strong
 > – live in South Africa for the very first time.</p><p>For years\, fan
 s across the country have been calling for the atmospheric\, emotional mag
 ic of <strong>Lane 8</strong> – and now he’s coming to our shores. K
 nown for his captivating <em>This Never Happened </em>shows and melodic j
 ourneys through house and progressive sounds\, Lane 8 is set to deliver an
  unforgettable experience. </p><p>Supporting Lane 8 are none other than t
 he Grammy-nominated duo <strong>Sultan & Shepard</strong>\, whose seamles
 s blend of deep\, driving beats and emotional energy will set the perfect 
 tone for the night.</p><p>Join us in <strong>Johannesburg (</strong><stro
 ng style="color: currentcolor\;">29 Nov</strong><strong>)</strong> or <s
 trong>Cape Town (</strong><strong style="color: currentcolor\;">30 Nov</st
 rong><strong>)</strong> for a rare opportunity to witness his signature s
 ound under the stars. Expect an exhilarating production\, an inspired crow
 d\, and an audio-visual journey unlike anything you’ve seen before in SA
 .</p><p>Proudly brought to you by <strong>Connect Entertainment\, Soul Ca
 ndi Live</strong> and <strong>Sexy Groovy Love</strong>.</p>
LOCATION:Van Schoorsdrif Road Philadelphia off N7\, Cape Town\, Western Cap
 e
SUMMARY:Codigo Tequila presents Theatre featuring Lane 8 - CPT
URL;VALUE=URI:https://www.howler.co.za/TheatreCPT
END:VEVENT
END:VCALENDAR
