BEGIN:VCALENDAR
VERSION:2.0
PRODID:icalendar-ruby
CALSCALE:GREGORIAN
METHOD:PUBLISH
BEGIN:VEVENT
DTSTAMP:20260419T125954Z
UID:f628c0ef-311c-42aa-b15b-9e839fa2b2bf
DTSTART:20251122T093000
DTEND:20251122T133000
DESCRIPTION:<p><span>The biggest wellness party in JHB.</span></p><p><span>
 Like-minded people coming together\, for a</span></p><p><span>COFFEE - PAR
 TY - COLD PLUNGE - YOGA - PILATES - KIDS ZONE - SAUNA</span></p><p><span>I
 f any of these are your thing Coffee & Plunge is your party.</span></p><p>
 <br></p>
LOCATION:8 Hope Rd\, Johannesburg\, Gauteng\, 2192
SUMMARY:Coffee & Plunge Shepstone Gardens
URL;VALUE=URI:https://www.howler.co.za/thefancyone
END:VEVENT
END:VCALENDAR
