BEGIN:VCALENDAR
VERSION:2.0
PRODID:icalendar-ruby
CALSCALE:GREGORIAN
METHOD:PUBLISH
BEGIN:VEVENT
DTSTAMP:20260425T204623Z
UID:553bdbff-2ddd-4827-95ab-624912fb5231
DTSTART:20190914T120000
DTEND:20190914T163000
DESCRIPTION:<p>Cognition & Co is hosting a networking and information sessi
 on for psychology students in Johannesburg. We have lined up a number of p
 rofessionals from the psychological fields to inspire\, encourage and supp
 ort psychology students of any level.</p><p><br></p><p>Every year\, hundre
 ds of students apply for spaces in coursework masters programmes around th
 e country\; unfortunately these spaces are limited and only a handful of s
 tudents are given the opportunity to continue their journey and become Psy
 chologists. This process is extremely stressful on the students and there 
 is little individual feedback from the universities.</p><p><br></p><p>Cogn
 ition & Co\, with the help of a number of guest speakers\, would like to k
 eep students motivated on this difficult journey\, as well as show student
 s what alternatives are available to them that may help their applications
  in the future.</p><p><br></p><p>We will be covering topics such as master
 s applications and interviews\, volunteering\, alternative means of studyi
 ng and working\, opportunities abroad\, networking\, mentorship\, and prep
 aring for the future.</p><p><br></p><p>We look forward to hosting this eve
 nt and we hope that you will gain some insight into the journey\, as well 
 as other opportunities available. This will definitely be the first of man
 y Cognition & Co events. See you there!</p><p><br></p><p>For more informat
 ion on the event\, guest speakers\, and programme - please visit our websi
 te by clicking the following link - <a href="https://cognitionandco.co.za/
 cognition-conversation/" target="_blank">Cognition & Conversation </a></p>
LOCATION:18 Sunset Avenue\, Pineslopes\, Johannesburg
SUMMARY:Cognition & Conversation - Networking & Information Session
URL;VALUE=URI:https://www.howler.co.za/cognition
END:VEVENT
END:VCALENDAR
