BEGIN:VCALENDAR
VERSION:2.0
PRODID:icalendar-ruby
CALSCALE:GREGORIAN
METHOD:PUBLISH
BEGIN:VEVENT
DTSTAMP:20260423T090512Z
UID:22a7782a-e019-42e8-a493-7d75685c9409
DTSTART:20250308T163000
DTEND:20250308T220000
DESCRIPTION:<p><span>🌟✨ </span><strong>Get ready for our FIRST-EVER Ou
 tdoor Movie Night!</strong><span> ✨🎬</span></p><p><br></p><p><span>
 🎟️ Tickets are only </span><strong>R250 per person</strong><span> and
  include:</span></p><p><span>🍿 Delicious popcorn</span></p><p><span>
 🍕 A tasty meal from Majestic Café</span></p><p><span>🍹 A refreshing
  welcome drink</span></p><p>🎬Your seat to enjoy the movie under the sta
 rs!</p><p><br></p><p><br></p><p><span>🌌 </span><strong>BYO blankets and
  pillows</strong><span> for the ultimate cozy experience under the stars. 
 Snuggle up\, relax\, and enjoy a magical evening with us!</span></p><p><br
 ></p><p><span>🎉 Don’t miss out—this is going to be an unforgettable
  night! We can’t wait to see you there! 💫🍿🎥</span></p><p><br></
 p><p><br></p>
LOCATION: 5 Lower Rd\, Morningside\, Sandton
SUMMARY:Connect20s Outdoor Movie Night
URL;VALUE=URI:https://www.howler.co.za/OutdoorMovieNightEvent
END:VEVENT
END:VCALENDAR
