BEGIN:VCALENDAR
VERSION:2.0
PRODID:icalendar-ruby
CALSCALE:GREGORIAN
METHOD:PUBLISH
BEGIN:VEVENT
DTSTAMP:20260421T162238Z
UID:5c882476-aaf5-4020-a2ff-673d91a6f9f8
DTSTART:20221217T070000
DTEND:20221217T150000
DESCRIPTION:<p>The inauguration of the D_cider Marathon will be taking plac
 e at Mankayane\, Eswatini. A healthy lifestyle is important to everyone al
 ive and maintaining it is better. We gathering the youth\, young adults\, 
 and the seniors on a productive day about taking care of yourself to be a 
 better version of yourself\, to your family\, friends\, colleagues and you
 r better half. Everyone from all corners of the world is invited. It all b
 egins with one foot and putting another one in front of another one. There
  will be 3k\, 5k\, 10k\, and 21k. This iniative is proudly brought to you 
 by Riska_D_Rollaz.</p>
SUMMARY:D_cider Marathon
URL;VALUE=URI:https://www.howler.co.za/dcidermarathon
END:VEVENT
END:VCALENDAR
