BEGIN:VCALENDAR
VERSION:2.0
PRODID:icalendar-ruby
CALSCALE:GREGORIAN
METHOD:PUBLISH
BEGIN:VEVENT
DTSTAMP:20260421T164928Z
UID:ead4afd9-bba4-42ca-b342-1ee81ccafa70
DTSTART:20251101T140000
DTEND:20251102T000000
DESCRIPTION:<p>We are stepping out of the 90s and into the New Millenium! <
 /p><p>The decade of CDs\, Dial-Up Internet and Britney Spears. </p><p><br>
 </p><p>Come dressed in your best Y2K outfit and live your best 2000s life 
 with us. </p><p><br></p><p>1 November | Bad Manors Illovo</p>
LOCATION:39 Gwi Gwi Mrwebi St\, Newtown\, Johannesburg\, 2113
SUMMARY:Dae Dreams Presents - Y2K REVIVAL 1/11
URL;VALUE=URI:https://www.howler.co.za/y2kdreams
END:VEVENT
END:VCALENDAR
