BEGIN:VCALENDAR
VERSION:2.0
PRODID:icalendar-ruby
CALSCALE:GREGORIAN
METHOD:PUBLISH
BEGIN:VEVENT
DTSTAMP:20260420T142656Z
UID:07a0624c-72e7-4828-b244-7107ae0f135a
DTSTART:20231102T170000
DTEND:20231102T193000
DESCRIPTION:<h1>Gates open 16h00.</h1><h1>Bring Own Blankets & Chairs. </h1
 ><h1>Food and Cold Drinks for Sale.</h1><p><br></p>
LOCATION:R59 Parys
SUMMARY:Dankie Here Fees - Piekniek
URL;VALUE=URI:https://www.howler.co.za/dankiehere
END:VEVENT
END:VCALENDAR
