BEGIN:VCALENDAR
VERSION:2.0
PRODID:icalendar-ruby
CALSCALE:GREGORIAN
METHOD:PUBLISH
BEGIN:VEVENT
DTSTAMP:20260423T163417Z
UID:fa65b55e-e1f9-47ad-9d4a-e36497b79488
DTSTART:20251015T170000
DTEND:20251015T200000
DESCRIPTION:<p><strong>Date Night at the Playpark – Wednesday\, 15 Octobe
 r 2025</strong> 🍽️❤️</p><p><br></p><p>Join us for an unforgettabl
 e evening at our weekly <strong>Date Night</strong>!</p><p><br></p><p>Savo
 ur a delicious plate of <strong>Roast Beef\, Roast Potato\, Mixed Veg with
  White Sauce and Yellow Rice </strong>– the perfect meal for a sunny sum
 mer day! 🥩🍽️</p><p><br></p><p>💸 <strong>R100 per person</strong
 ></p><p><br></p><p>Enjoy a <strong>refreshing Beer or Cider for only R25</
 strong> 🍻 while your little ones have a blast in the play park – <str
 ong>kids play for FREE!</strong> 🎉👧🏻👦🏻</p><p><br></p><p>
 🎨 <strong>Extra Fun for the Kids:</strong></p><p>Let their creativity s
 hine with <strong>Canvas Painting – R75</strong></p><p>🍔 Or treat the
 m to a <strong>Chicken Strips and Chips – R50</strong></p><p><br></p><p>
 <strong>Book your spot online:</strong></p><p>📅 www.howler.co.za/</p><p
 ><br></p><p><strong>Important Info:</strong></p><p>🧦 <em>Grip Socks</em
 > required for play park access (Available at reception for R35)</p><p>
 🍽️ <em>Last meal orders close at 7 PM</em></p><p><br></p><p><br></p>
LOCATION:17 Bottelary Road\, Brackenfell
SUMMARY:Date Night at Kids Factory | Mini Roast Evening (15 Oct)
URL;VALUE=URI:https://www.howler.co.za/KFRoast15
END:VEVENT
END:VCALENDAR
