BEGIN:VCALENDAR
VERSION:2.0
PRODID:icalendar-ruby
CALSCALE:GREGORIAN
METHOD:PUBLISH
BEGIN:VEVENT
DTSTAMP:20260422T170559Z
UID:39944734-3324-4672-b18b-0c038f904697
DTSTART:20211113T100000
DTEND:20211113T230000
DESCRIPTION:<p>Underground Africa presents it's first installment of a B2B 
 series called 'Digital Playground.'</p><p>Avi Subban</p><p>Blaque Mystery<
 /p><p>Black Lake</p><p>Bongani Zulu</p><p>Bronson(CPT)</p><p>Cody Meyer(CP
 T)</p><p>Daryn Steytler(CPT)</p><p>Ethans.wav</p><p>GForce</p><p>Juan Pier
 re</p><p>Lady M(CPT)</p><p>Rhys M<span style="background-color: rgb(255\, 
 255\, 255)\; color: rgb(32\, 33\, 36)\;">ømsen</span></p><p><span style="
 background-color: rgb(255\, 255\, 255)\; color: rgb(32\, 33\, 36)\;">Romar
 io Afonso</span></p><p><span style="background-color: rgb(255\, 255\, 255)
 \; color: rgb(32\, 33\, 36)\;">Terry Aronis</span></p><p><br></p><p><span 
 style="background-color: rgb(255\, 255\, 255)\; color: rgb(32\, 33\, 36)\;
 ">Who'll be playing with who?</span></p><p><br></p><p><span style="backgro
 und-color: rgb(255\, 255\, 255)\; color: rgb(32\, 33\, 36)\;">Come find ou
 t on the 13th of November.</span></p>
LOCATION:39 Gwi Gwi Mrwebi Street\, Johannesburg\, Gauteng\, 2113
SUMMARY:Digital Playground
URL;VALUE=URI:https://www.howler.co.za/digitalplaygroundb2b
END:VEVENT
END:VCALENDAR
