BEGIN:VCALENDAR
VERSION:2.0
PRODID:icalendar-ruby
CALSCALE:GREGORIAN
METHOD:PUBLISH
BEGIN:VEVENT
DTSTAMP:20260425T170459Z
UID:e4261170-89fe-45dd-9364-3fdd6e5a39ac
DTSTART:20241228T100000
DTEND:20241229T050000
DESCRIPTION:<p class="ql-align-justify"><strong>DOKODWENI BEACH FESTIVAL 4T
 H ANNUAL</strong></p><p class="ql-align-justify"><br></p><p class="ql-alig
 n-justify"><strong><em>Get ready for a weekend of beach\, this year the ev
 ent incorporates the full range of outdoor\, adventure beach activities an
 d live music. </em></strong></p><p class="ql-align-justify"><br></p><p cla
 ss="ql-align-justify">Get ready for a weekend of beach\, this year the eve
 nt incorporates the full range of outdoor\, adventure beach activities and
  live music. Ezakwazulu Entertainment and Mandeni municipality presents 4t
 h Annual Dokodweni Beach Festival\, scheduled to take place on 27 & 28 Dec
 ember 2024 under the auspices of the Mandeni Local Municipality\, situated
  along the Dolphin Coast in the Northern parts of KwaZulu-Natal. On the 20
 th of December the Annual festive weekend event kicks off with Mandeni Tou
 rism Experience adventure packages such as Game drive\, hiking\, quad bike
  tour wine tasting\, kayaking\, boat cruise\, Kiddie’s adventure\, pop-u
 p footstalls\, camp and live music. On Saturday evening\, The Main festiva
 l will feature a full range of the hottest SA artists and local talents. T
 he impressive line-up coming soon\, taste of big stage\, sound\, lighting\
 , VIP chill out lounges and umbrellas. The festival includes beer garden\,
  braai in the ambience of good music and amazing company. The dolphin coas
 t summer breeze will ideally be setting for great picnic. The event is att
 ended by more than 5000 people each day enjoying the good food and music. 
 The event provides amazing and unforgettable experience for friends and fa
 milies during festive season. The festival starts at 12pm till 5am\, for t
 hose planning for whole weekend must book travel packages which include al
 l access tickets for Friday to Sunday\, shuttle services from the venue to
  select accommodation.</p><p class="ql-align-justify"><br></p><p class="ql
 -align-justify"><strong>BUY TICKETS</strong></p><p class="ql-align-justify
 "><br></p><p class="ql-align-justify">Saturday\, 28 December: Main Music F
 estival</p><p class="ql-align-justify"><strong>General Access:</strong></p
 ><p class="ql-align-justify">Phase 1 - R100</p><p class="ql-align-justify"
 >Phase 2 - R 150</p><p class="ql-align-justify">R 350 – R400 VIP</p><p c
 lass="ql-align-justify">(Gates Open from 10am -5am)</p><p class="ql-align-
 justify"><br></p><p class="ql-align-justify"><strong>Details</strong></p><
 p class="ql-align-justify"><br></p><p class="ql-align-justify">Date: 28 De
 cember 2024</p><p class="ql-align-justify">Venue: Mandeni Dokodweni beach 
 lagoon</p><p class="ql-align-justify">Parking available</p><p class="ql-al
 ign-justify">Not allowed: Gazebos\, braai stands\, Camera\, drone cooler b
 ox after 7pm and weapons</p><p class="ql-align-justify">No cooler box Vip 
 </p><p class="ql-align-justify"><br></p><p class="ql-align-justify"><span 
 style="color: rgb(25\, 25\, 25)\;"> </span></p><p class="ql-align-justify
 "><span style="color: rgb(25\, 25\, 25)\;">Ends/</span></p><p><span style=
 "color: rgb(25\, 25\, 25)\;"> </span></p><p><strong style="color: black\;
 ">For media enquiries\, please contact:</strong></p><p><strong style="colo
 r: black\;"> </strong></p><p><span style="color: black\;">Organiser Name:
  Mr. Africa Mpanza</span></p><p><span style="color: black\;">Contact: 0766
 476393 / 081 304 1218</span></p><p><span style="color: black\;">Email: boo
 kings@ezakwazulu.co.za</span></p><p class="ql-align-justify"><span style="
 color: rgb(13\, 13\, 13)\;">Issued by Ezakwazulu entertainment on behalf o
 f: Dokodweni beach festival</span></p><p class="ql-align-justify"><span st
 yle="color: rgb(13\, 13\, 13)\;"> </span></p><p class="ql-align-justify">
 <br></p><h1 class="ql-indent-1"><br></h1>
LOCATION: Dokodweni Beach\, Mandeni 4490
SUMMARY:DOKODWENI BEACH FESTIVAL 4TH ANNUAL 2024
URL;VALUE=URI:https://www.howler.co.za/dokodwenibeachfestival2024
END:VEVENT
END:VCALENDAR
