BEGIN:VCALENDAR
VERSION:2.0
PRODID:icalendar-ruby
CALSCALE:GREGORIAN
METHOD:PUBLISH
BEGIN:VEVENT
DTSTAMP:20260425T034708Z
UID:215864e0-1cf5-45a8-9aa9-51d9222166bc
DTSTART:20240717T160000
DTEND:20240718T010000
DESCRIPTION:<p><span>Maracana and Klub Kulture </span></p><p><span>Present
 </span></p><p><span>DOUBLE UP WEDNESDAYS</span></p><p><br></p><p><span>Mid
 week gatherings\, after work drinks and sundowners\, casual dates and a ov
 erall good time with good people and great food</span></p><p><br></p><p><s
 pan>Come enjoy our 2 for 1 specials on ALL BOTTLES\, ALL DRINKS\, ALL COCK
 TAILS\, ALL SHOTS and ALL FOOD</span></p><p><span>And to top it off we got
  BOTTOMLESS HUBBLY FOR U HUBBLY LOVERS</span></p><p><br></p><p><span>Doors
  open at 4pm at Maracana Sandton</span></p><p><br></p><p><span>Entertainme
 nt by</span></p><p><span>Duncan Yung</span></p><p><span>Jemapelle James</s
 pan></p><p><span>JJOSEFA </span></p><p><span>Seth </span></p><p><span>Fa
 nzito </span></p><p><span>Phuti </span></p><p><span>Mali </span></p><p>
 <br></p><p><br></p><p><span>Come double up on with us at Double Up Wednesd
 ays </span></p><p><br></p>
LOCATION:58 Wierda Rd\, Wierda Valley\, Sandown\, Sandton
SUMMARY:Double Up Wednesdays (2 for 1 specials)
URL;VALUE=URI:https://www.howler.co.za/Doubleupwednesday
END:VEVENT
END:VCALENDAR
