BEGIN:VCALENDAR
VERSION:2.0
PRODID:icalendar-ruby
CALSCALE:GREGORIAN
METHOD:PUBLISH
BEGIN:VEVENT
DTSTAMP:20260423T161618Z
UID:5ba143eb-7978-457e-9ef6-cb72e8b3d97c
DTSTART:20240706T170000
DTEND:20240707T020000
DESCRIPTION:<p><span style="color: rgb(0\, 0\, 0)\;">Get ready for an epic 
 post-race bash like never before! It's time to elevate the excitement with
  the ultimate ROOFTOP EXTRAVAGANZA at Lime Rooftop! Join us for Durban's m
 ost colossal celebration yet!</span><span style="color: rgb(0\, 0\, 0)\;">
 <span class="ql-cursor">﻿</span></span></p><p><strong>Lime Rooftop </str
 ong>& <strong>Rooftop Festival</strong> join forces to dominate Durban's m
 ost prestigious day with the ultimate Durban July Afterparty!</p><p>Pictur
 e yourself cheering on trackside triumphs with the trendiest folks from ac
 ross the country and your dearest friends.</p><p>Beyond the races\, it's a
  spectacular blend of fashion and entertainment where everyone aims to shi
 ne. Get ready for #DurbanJulyFever</p><p><strong>FEATURING:</strong></p><p
 ><span style="color: rgb(64\, 77\, 87)\;">SA vs Ireland Rugby live on Big 
 Screen & TVs at 17:00</span></p><p><span style="color: rgb(64\, 77\, 87)\;
 ">1X Mega Rooftop Stage</span></p><p><span style="color: rgb(64\, 77\, 87)
 \;">1X Club Floor</span></p><p><span style="color: rgb(64\, 77\, 87)\;">VI
 P / backstage area</span></p><p><br></p>
LOCATION:7 McCausland Cres\, Umhlanga\, uMhlanga\, 4320
SUMMARY:DURBAN JULY X ROOFTOP | SAT 6 JULY
URL;VALUE=URI:https://www.howler.co.za/DurbanJulyRooftop
END:VEVENT
END:VCALENDAR
